BEGIN:VCALENDAR
VERSION:2.0
PRODID:-//Sakakawea Fence Stretchers Inc. - ECPv6.15.20//NONSGML v1.0//EN
CALSCALE:GREGORIAN
METHOD:PUBLISH
X-WR-CALNAME:Sakakawea Fence Stretchers Inc.
X-ORIGINAL-URL:https://sakakaweafencestretchers.com
X-WR-CALDESC:Events for Sakakawea Fence Stretchers Inc.
REFRESH-INTERVAL;VALUE=DURATION:PT1H
X-Robots-Tag:noindex
X-PUBLISHED-TTL:PT1H
BEGIN:VTIMEZONE
TZID:America/Chicago
BEGIN:DAYLIGHT
TZOFFSETFROM:-0600
TZOFFSETTO:-0500
TZNAME:CDT
DTSTART:20190310T080000
END:DAYLIGHT
BEGIN:STANDARD
TZOFFSETFROM:-0500
TZOFFSETTO:-0600
TZNAME:CST
DTSTART:20191103T070000
END:STANDARD
BEGIN:DAYLIGHT
TZOFFSETFROM:-0600
TZOFFSETTO:-0500
TZNAME:CDT
DTSTART:20200308T080000
END:DAYLIGHT
BEGIN:STANDARD
TZOFFSETFROM:-0500
TZOFFSETTO:-0600
TZNAME:CST
DTSTART:20201101T070000
END:STANDARD
BEGIN:DAYLIGHT
TZOFFSETFROM:-0600
TZOFFSETTO:-0500
TZNAME:CDT
DTSTART:20210314T080000
END:DAYLIGHT
BEGIN:STANDARD
TZOFFSETFROM:-0500
TZOFFSETTO:-0600
TZNAME:CST
DTSTART:20211107T070000
END:STANDARD
BEGIN:DAYLIGHT
TZOFFSETFROM:-0600
TZOFFSETTO:-0500
TZNAME:CDT
DTSTART:20220313T080000
END:DAYLIGHT
BEGIN:STANDARD
TZOFFSETFROM:-0500
TZOFFSETTO:-0600
TZNAME:CST
DTSTART:20221106T070000
END:STANDARD
END:VTIMEZONE
BEGIN:VTIMEZONE
TZID:UTC
BEGIN:STANDARD
TZOFFSETFROM:+0000
TZOFFSETTO:+0000
TZNAME:UTC
DTSTART:20190101T000000
END:STANDARD
END:VTIMEZONE
BEGIN:VEVENT
DTSTART;TZID=America/Chicago:20210202T190000
DTEND;TZID=America/Chicago:20210202T200000
DTSTAMP:20260425T094417
CREATED:20201001T015807Z
LAST-MODIFIED:20210129T030432Z
UID:2222-1612292400-1612296000@sakakaweafencestretchers.com
SUMMARY:Membership Meeting
DESCRIPTION:Monthly Membership Meeting 7pm Brents Garage
URL:https://sakakaweafencestretchers.com/event/membership-meeting-5/
END:VEVENT
BEGIN:VEVENT
DTSTART;VALUE=DATE:20210123
DTEND;VALUE=DATE:20210124
DTSTAMP:20260425T094417
CREATED:20201224T043314Z
LAST-MODIFIED:20210114T213945Z
UID:2620-1611360000-1611446399@sakakaweafencestretchers.com
SUMMARY:--POSTPONED-- ICE DRAGS
DESCRIPTION:Due to the warm weather the races have been postponed to an undetermined later date in hopes of colder weather. \nDakota 660 Ice Racers -ICE DRAGS- on Lake Vernon just South of Rice Lake on Hwy 23. (Postponed)
URL:https://sakakaweafencestretchers.com/event/ice-drags-2/
END:VEVENT
BEGIN:VEVENT
DTSTART;VALUE=DATE:20210109
DTEND;VALUE=DATE:20210110
DTSTAMP:20260425T094417
CREATED:20201009T012752Z
LAST-MODIFIED:20201210T211547Z
UID:2303-1610150400-1610236799@sakakaweafencestretchers.com
SUMMARY:Snowmobile Safety Class --CANCELLED--Available online.
DESCRIPTION:ND Parks and Rec. Snowmobile safety class and simulator\, kids from 10-16 need this class to ride on ND trails\, adults may attend also.
URL:https://sakakaweafencestretchers.com/event/snowmobile-safety-class/
END:VEVENT
BEGIN:VEVENT
DTSTART;TZID=America/Chicago:20210105T190000
DTEND;TZID=America/Chicago:20210105T200000
DTSTAMP:20260425T094417
CREATED:20201001T015626Z
LAST-MODIFIED:20201231T004741Z
UID:2220-1609873200-1609876800@sakakaweafencestretchers.com
SUMMARY:Membership Meeting
DESCRIPTION:Monthly Membership Meeting 7pm\, Brent’s garage\, 59 4th Ave NE\, Garrison.
URL:https://sakakaweafencestretchers.com/event/membership-meeting-4/
END:VEVENT
BEGIN:VEVENT
DTSTART;TZID=America/Chicago:20201201T190000
DTEND;TZID=America/Chicago:20201201T200000
DTSTAMP:20260425T094417
CREATED:20201001T015412Z
LAST-MODIFIED:20201125T020724Z
UID:2218-1606849200-1606852800@sakakaweafencestretchers.com
SUMMARY:Membership Meeting
DESCRIPTION:Monthly Membership Meeting 7pm Max Southside
URL:https://sakakaweafencestretchers.com/event/membership-meeting-3/
END:VEVENT
BEGIN:VEVENT
DTSTART;TZID=America/Chicago:20201103T190000
DTEND;TZID=America/Chicago:20201103T200000
DTSTAMP:20260425T094417
CREATED:20201001T015255Z
LAST-MODIFIED:20201029T234046Z
UID:2216-1604430000-1604433600@sakakaweafencestretchers.com
SUMMARY:Membership Meeting
DESCRIPTION:Monthly Membership Meeting 7pm at the Garrison Golf Course
URL:https://sakakaweafencestretchers.com/event/membership-meeting-2/
END:VEVENT
BEGIN:VEVENT
DTSTART;TZID=America/Chicago:20201031T120000
DTEND;TZID=America/Chicago:20201031T180000
DTSTAMP:20260425T094417
CREATED:20201009T012444Z
LAST-MODIFIED:20201009T012444Z
UID:2301-1604145600-1604167200@sakakaweafencestretchers.com
SUMMARY:ATV/Side by Side Witch hunt
DESCRIPTION:Halloween day scavenger hunt leaves Benedict at noon back by 6\, route TBA
URL:https://sakakaweafencestretchers.com/event/atv-side-by-side-witch-hunt/
END:VEVENT
BEGIN:VEVENT
DTSTART;VALUE=DATE:20201017
DTEND;VALUE=DATE:20201018
DTSTAMP:20260425T094417
CREATED:20200807T004942Z
LAST-MODIFIED:20200807T004942Z
UID:2052-1602892800-1602979199@sakakaweafencestretchers.com
SUMMARY:Grass Drags
DESCRIPTION:Oct 17th the Lansford Fire Dept. will be hosting a grass drag/Swap Meet open to sledt and 4-wheelers and possibly side by sides.
URL:https://sakakaweafencestretchers.com/event/grass-drags/
LOCATION:Lansford\, ND\, 58750\, United States
ORGANIZER;CN="":MAILTO:chevy121@hotmail.com
END:VEVENT
BEGIN:VEVENT
DTSTART;TZID=UTC:20201006T190000
DTEND;TZID=UTC:20201006T210000
DTSTAMP:20260425T094417
CREATED:20200111T051534Z
LAST-MODIFIED:20201001T015003Z
UID:1377-1602010800-1602018000@sakakaweafencestretchers.com
SUMMARY:SFS Membership Meeting
DESCRIPTION:Monthly Membership Meeting 7pm Garrison Golf Course\, Installation of Officers
URL:https://sakakaweafencestretchers.com/event/sfs-membership-meeting/
END:VEVENT
BEGIN:VEVENT
DTSTART;TZID=UTC:20200901T190000
DTEND;TZID=UTC:20200901T210000
DTSTAMP:20260425T094417
CREATED:20200111T051403Z
LAST-MODIFIED:20200807T002420Z
UID:1375-1598986800-1598994000@sakakaweafencestretchers.com
SUMMARY:Annual Meeting/Election
DESCRIPTION:Annual Meeting of the Board of Directors and Election of Officers and Directors – 7pm Garrison Golf Course
URL:https://sakakaweafencestretchers.com/event/annual-meeting/
END:VEVENT
BEGIN:VEVENT
DTSTART;VALUE=DATE:20200801
DTEND;VALUE=DATE:20200802
DTSTAMP:20260425T094417
CREATED:20200722T014615Z
LAST-MODIFIED:20200722T014810Z
UID:1981-1596240000-1596326399@sakakaweafencestretchers.com
SUMMARY:Nominations
DESCRIPTION:Would like to have all election nominees in by August 1st so absentee voting may be implemented starting August 3rd.
URL:https://sakakaweafencestretchers.com/event/nominations/
END:VEVENT
BEGIN:VEVENT
DTSTART;TZID=America/Chicago:20200719T140000
DTEND;TZID=America/Chicago:20200719T140000
DTSTAMP:20260425T094417
CREATED:20200717T005500Z
LAST-MODIFIED:20200717T005605Z
UID:1963-1595167200-1595167200@sakakaweafencestretchers.com
SUMMARY:Trap Shoot
DESCRIPTION:This Sunday July 19th there will be a benefit Trap Shoot event for Leland Johnson\, and to welcome back from Afghanistan Jamison Bruns to be held at the Johnson family farm West of Parshall on the way to Brendle’s Bay.  The address is 3564 77th Ave NW\, Parshall ND 58770. \n  \nAll food will be provided but they do ask that you bring drinks\, chairs and of course your own shotguns\, ammo\, and hearing protection.  The plan for the tournament will be any youth age 13 and under will be first to shoot starting at 2 pm\, they will shoot one round of trap which is 25 rounds(One Box of Shells)\, for the 1st thru 3rd Leland benefit trophies.  Then anyone 14 or older will be in the adult tournament\, the first round of that will also be for the 1st thru 3rd Leland Benefit trophies\, then the top 10 from that round will be entered into the annual travelling trophy round of shooting then the top 5 shooters from that round will shoot 1 more round and the highest combined score from those 2 rounds will be the winner and will keep the travelling trophy for one year with their name on it. \n  \nBring extra shells because there will be some shooting games available for play also \n  \nFood will be served following the shoot\, anyone is welcome to come before 2 pm to practice or learn how the tournament is run.  Also Alcohol is allowed but NO ONE will be allowed to shoot if they have been drinking so if you plan on shooting you will not be allowed to drink until you are done shooting.
URL:https://sakakaweafencestretchers.com/event/trap-shot/
END:VEVENT
BEGIN:VEVENT
DTSTART;VALUE=DATE:20200711
DTEND;VALUE=DATE:20200712
DTSTAMP:20260425T094417
CREATED:20200111T051253Z
LAST-MODIFIED:20200703T012945Z
UID:1373-1594425600-1594511999@sakakaweafencestretchers.com
SUMMARY:SFS Camp Out
DESCRIPTION:Club Camp out/Picnic\, Douglas Creek Recreation Area \nHello Members\, Its that time of the year again\, our club camp out/Picnic is scheduled for Saturday July 11th\, Picnic at 6pm\, at the Douglas Creek Recreation Area.  We will have our “April” (Postponed) monthly meeting at 7 which we will discuss a date when to hold our election and hash out voting and nominating details (The Pandemic Edition).  We will also discuss whether to do another fundraiser this summer\, possibly a raffle again.  If there is any other business that needs to be discussed please let me know ASAP so we can get it on the Agenda. \n  \nCome out for just the meeting or the picnic or pull your camper out for the weekend\, spots are first come first serve\, we will try to be in the same area as last year but no guarantees on what portions will be open. \nWe will have Grills out there so bring your own meat and use one of the grills\, feel free to bring a side dish
URL:https://sakakaweafencestretchers.com/event/sfs-camp-out/
END:VEVENT
BEGIN:VEVENT
DTSTART;TZID=UTC:20200407T190000
DTEND;TZID=UTC:20200407T210000
DTSTAMP:20260425T094417
CREATED:20200111T051109Z
LAST-MODIFIED:20200325T023337Z
UID:1371-1586286000-1586293200@sakakaweafencestretchers.com
SUMMARY:SFS Monthly Meeting/Election (POSTPONED)
DESCRIPTION:Monthly Membership Meeting 7pm @ North Shore Inn & Suites\, Election of Officers. Postponed until the next available date when the pandemic ends
URL:https://sakakaweafencestretchers.com/event/sfs-monthly-meeting-election/
END:VEVENT
BEGIN:VEVENT
DTSTART;TZID=UTC:20200303T190000
DTEND;TZID=UTC:20200303T210000
DTSTAMP:20260425T094417
CREATED:20200111T050555Z
LAST-MODIFIED:20200129T193204Z
UID:1367-1583262000-1583269200@sakakaweafencestretchers.com
SUMMARY:SFS Monthly meeting
DESCRIPTION:Monthly Membership Meeting 7pm\, Garrison Golf Course
URL:https://sakakaweafencestretchers.com/event/sfs-monthly-meeting/
END:VEVENT
BEGIN:VEVENT
DTSTART;TZID=UTC:20200301T090000
DTEND;TZID=UTC:20200301T140000
DTSTAMP:20260425T094417
CREATED:20200111T050157Z
LAST-MODIFIED:20200117T085617Z
UID:1363-1583053200-1583071200@sakakaweafencestretchers.com
SUMMARY:Benefit Breakfast
DESCRIPTION:Benefit Breakfast for Leland Johnson\, Garrison Auditorium
URL:https://sakakaweafencestretchers.com/event/benefit-breakfast/
ATTACH;FMTTYPE=image/png:https://sakakaweafencestretchers.com/wp-content/uploads/2020/01/Lelands-Benefit-Breakfast.png
END:VEVENT
BEGIN:VEVENT
DTSTART;VALUE=DATE:20200301
DTEND;VALUE=DATE:20200302
DTSTAMP:20260425T094417
CREATED:20200111T050346Z
LAST-MODIFIED:20200111T050346Z
UID:1365-1583020800-1583107199@sakakaweafencestretchers.com
SUMMARY:Vintage Snowmobile show
DESCRIPTION:Driftbusters Vintage Snowmobile Show in Deering
URL:https://sakakaweafencestretchers.com/event/vintage-snowmobile-show/
END:VEVENT
BEGIN:VEVENT
DTSTART;TZID=America/Chicago:20200225T190000
DTEND;TZID=America/Chicago:20200225T210000
DTSTAMP:20260425T094417
CREATED:20200206T002331Z
LAST-MODIFIED:20200206T003836Z
UID:1662-1582657200-1582664400@sakakaweafencestretchers.com
SUMMARY:Special Meeting
DESCRIPTION:Special Meeting called to finalize plans of organization for the March 1st benefit\, all members are urged to attend.
URL:https://sakakaweafencestretchers.com/event/special-meeting/
END:VEVENT
BEGIN:VEVENT
DTSTART;VALUE=DATE:20200208
DTEND;VALUE=DATE:20200209
DTSTAMP:20260425T094417
CREATED:20200111T045534Z
LAST-MODIFIED:20200126T230008Z
UID:1357-1581120000-1581206399@sakakaweafencestretchers.com
SUMMARY:SFS Benefit Run
DESCRIPTION:Sakakawea Fence Stretchers Benefit Run for Leland Johnson\, Registration opens at 10am at Hunters in Garrison\, leave at 11\, stop at the Douglas Bar\, Southside in Max\, Hitching Post in Benedict\, Totten Trail\, Hometown Tavern in Garrison\, and end at Hunters Bar. \nFree Will Offering instead of registration fee\, shake dice at each location to fill out Yahtzee card\, prizes for Yahtzee winners\, Door prizes\, all proceeds go to the Leland Johnson Benefit\, this event will go on as planned\, with or without snow\, ride or drive.
URL:https://sakakaweafencestretchers.com/event/sfs-benefit-run/
ATTACH;FMTTYPE=image/png:https://sakakaweafencestretchers.com/wp-content/uploads/2020/01/Leland-fun-run-benefit.png
END:VEVENT
BEGIN:VEVENT
DTSTART;TZID=UTC:20200204T190000
DTEND;TZID=UTC:20200204T210000
DTSTAMP:20260425T094417
CREATED:20200111T045258Z
LAST-MODIFIED:20200111T045258Z
UID:1355-1580842800-1580850000@sakakaweafencestretchers.com
SUMMARY:Membership Meeting
DESCRIPTION:Monthly Membership Meeting @ Hometown
URL:https://sakakaweafencestretchers.com/event/membership-meeting/
END:VEVENT
BEGIN:VEVENT
DTSTART;VALUE=DATE:20200201
DTEND;VALUE=DATE:20200202
DTSTAMP:20260425T094417
CREATED:20200127T065707Z
LAST-MODIFIED:20200127T065917Z
UID:1642-1580515200-1580601599@sakakaweafencestretchers.com
SUMMARY:State Ride and Snofest in Walhalla
DESCRIPTION:
URL:https://sakakaweafencestretchers.com/event/state-ride-and-snofest-in-walhalla/
ATTACH;FMTTYPE=image/jpeg:https://sakakaweafencestretchers.com/wp-content/uploads/2020/01/State-ride.jpg
END:VEVENT
BEGIN:VEVENT
DTSTART;VALUE=DATE:20200125
DTEND;VALUE=DATE:20200126
DTSTAMP:20260425T094417
CREATED:20200111T105830Z
LAST-MODIFIED:20200111T110739Z
UID:1392-1579910400-1579996799@sakakaweafencestretchers.com
SUMMARY:Ice Drags Dakota 660 Ice Racers
DESCRIPTION:Dakota 660 Ice Racers\, Drag races under the lights \nRegistration 12:00-2:00 \nTesting 2:00-4:00  $10/Sled \nRaces Start at 6:00 \n4 lane porta tree timing system \n100% payouts \n$5 for each buy in for fastest 60 Ft and fastest reaction time \n50% Payout for each winner \nMust have ice picks and tether switch \nLocated 8-1/2 miles west of the Highway 83 and 23 Junction
URL:https://sakakaweafencestretchers.com/event/ice-drags/
ATTACH;FMTTYPE=image/jpeg:https://sakakaweafencestretchers.com/wp-content/uploads/2020/01/Dakota-660-ice-racers.jpg
END:VEVENT
BEGIN:VEVENT
DTSTART;VALUE=DATE:20200125
DTEND;VALUE=DATE:20200126
DTSTAMP:20260425T094417
CREATED:20200111T044932Z
LAST-MODIFIED:20200118T054402Z
UID:1352-1579910400-1579996799@sakakaweafencestretchers.com
SUMMARY:Sakakawea Fence Stretchers Fun Run
DESCRIPTION:Sakakawea Fence Stretchers Club Run\, Registration 10-10:45 at DQ\, leave at 11\, to K-Bar Makoti\, Backroads Bar Plaza\, Ryder Star Ryder\, Douglas Bar\, Back to Garrison to Hunters and end at Hometown Tavern. $20 entry\, 100% payout\, Shake dice\, run will go on ride or drive.
URL:https://sakakaweafencestretchers.com/event/sakakawea-fence-stretchers-fun-run/
ATTACH;FMTTYPE=image/png:https://sakakaweafencestretchers.com/wp-content/uploads/2020/01/Jan-Fun-Run.png
END:VEVENT
BEGIN:VEVENT
DTSTART;VALUE=DATE:20200118
DTEND;VALUE=DATE:20200119
DTSTAMP:20260425T094417
CREATED:20200111T032135Z
LAST-MODIFIED:20200111T043303Z
UID:1320-1579305600-1579305600@sakakaweafencestretchers.com
SUMMARY:Fun Run - Gasman Coulee Cruisers
DESCRIPTION:Gasmann Coulee Cruisers Fun Run\, Ends in Burlington\, Marlo Stromberg 833-8560
URL:https://sakakaweafencestretchers.com/event/fun-run/
END:VEVENT
END:VCALENDAR