BEGIN:VCALENDAR
VERSION:2.0
PRODID:-//Sakakawea Fence Stretchers Inc. - ECPv6.15.20//NONSGML v1.0//EN
CALSCALE:GREGORIAN
METHOD:PUBLISH
X-WR-CALNAME:Sakakawea Fence Stretchers Inc.
X-ORIGINAL-URL:https://sakakaweafencestretchers.com
X-WR-CALDESC:Events for Sakakawea Fence Stretchers Inc.
REFRESH-INTERVAL;VALUE=DURATION:PT1H
X-Robots-Tag:noindex
X-PUBLISHED-TTL:PT1H
BEGIN:VTIMEZONE
TZID:America/Chicago
BEGIN:DAYLIGHT
TZOFFSETFROM:-0600
TZOFFSETTO:-0500
TZNAME:CDT
DTSTART:20200308T080000
END:DAYLIGHT
BEGIN:STANDARD
TZOFFSETFROM:-0500
TZOFFSETTO:-0600
TZNAME:CST
DTSTART:20201101T070000
END:STANDARD
BEGIN:DAYLIGHT
TZOFFSETFROM:-0600
TZOFFSETTO:-0500
TZNAME:CDT
DTSTART:20210314T080000
END:DAYLIGHT
BEGIN:STANDARD
TZOFFSETFROM:-0500
TZOFFSETTO:-0600
TZNAME:CST
DTSTART:20211107T070000
END:STANDARD
BEGIN:DAYLIGHT
TZOFFSETFROM:-0600
TZOFFSETTO:-0500
TZNAME:CDT
DTSTART:20220313T080000
END:DAYLIGHT
BEGIN:STANDARD
TZOFFSETFROM:-0500
TZOFFSETTO:-0600
TZNAME:CST
DTSTART:20221106T070000
END:STANDARD
BEGIN:DAYLIGHT
TZOFFSETFROM:-0600
TZOFFSETTO:-0500
TZNAME:CDT
DTSTART:20230312T080000
END:DAYLIGHT
BEGIN:STANDARD
TZOFFSETFROM:-0500
TZOFFSETTO:-0600
TZNAME:CST
DTSTART:20231105T070000
END:STANDARD
END:VTIMEZONE
BEGIN:VEVENT
DTSTART;VALUE=DATE:20220204
DTEND;VALUE=DATE:20220206
DTSTAMP:20260425T092434
CREATED:20211227T005430Z
LAST-MODIFIED:20211227T005430Z
UID:3709-1643932800-1644105599@sakakaweafencestretchers.com
SUMMARY:Amsoil Championship Snowcross\, Fargo
DESCRIPTION:
URL:https://sakakaweafencestretchers.com/event/amsoil-championship-snowcross-fargo/
END:VEVENT
BEGIN:VEVENT
DTSTART;TZID=America/Chicago:20220201T190000
DTEND;TZID=America/Chicago:20220201T200000
DTSTAMP:20260425T092434
CREATED:20210831T013752Z
LAST-MODIFIED:20220120T033936Z
UID:3181-1643742000-1643745600@sakakaweafencestretchers.com
SUMMARY:Membership Meeting
DESCRIPTION:Monthly Membership Meeting\, 7 PM Garrison Golf Course
URL:https://sakakaweafencestretchers.com/event/membership-meeting-11/
END:VEVENT
BEGIN:VEVENT
DTSTART;TZID=America/Chicago:20220129T100000
DTEND;TZID=America/Chicago:20220129T183000
DTSTAMP:20260425T092434
CREATED:20220105T180141Z
LAST-MODIFIED:20220106T055844Z
UID:3741-1643450400-1643481000@sakakaweafencestretchers.com
SUMMARY:Sakakawea Fence Stretchers Fun Run
DESCRIPTION:Route will Include the West end of our trail system\, Stops in Makoti\, Plaza\, Ryder\, Douglas\, and back to Garrison
URL:https://sakakaweafencestretchers.com/event/sakakawea-fence-stretchers-fun-run-2/
ATTACH;FMTTYPE=application/pdf:https://sakakaweafencestretchers.com/wp-content/uploads/2022/01/Jan292022sfsfunrun.pdf
END:VEVENT
BEGIN:VEVENT
DTSTART;TZID=America/Chicago:20220125T190000
DTEND;TZID=America/Chicago:20220125T200000
DTSTAMP:20260425T092434
CREATED:20220120T033636Z
LAST-MODIFIED:20220120T033726Z
UID:3806-1643137200-1643140800@sakakaweafencestretchers.com
SUMMARY:Special Membership Meeting
DESCRIPTION:Special meeting regarding purchasing a groomer. 7pm Garrison Golf Course
URL:https://sakakaweafencestretchers.com/event/special-membership-meeting/
END:VEVENT
BEGIN:VEVENT
DTSTART;TZID=America/Chicago:20220123T090000
DTEND;TZID=America/Chicago:20220123T130000
DTSTAMP:20260425T092434
CREATED:20211225T235244Z
LAST-MODIFIED:20211225T235244Z
UID:3658-1642928400-1642942800@sakakaweafencestretchers.com
SUMMARY:Benefit for Tom Diffely
DESCRIPTION:The Sakakawea fence Stretchers will be hosting a benefit breakfast and silent auction for Tom Diffely on January 23rd 2022 at the Parshall American Legion on Main Street from 9am-1pm.
URL:https://sakakaweafencestretchers.com/event/benefit-for-tom-diffely/
ATTACH;FMTTYPE=image/png:https://sakakaweafencestretchers.com/wp-content/uploads/2021/12/Tom-diffely-Benefit.png
ORGANIZER;CN="Sakakawea Fence Stretchers":MAILTO:sakfencestretch@outlook.com
END:VEVENT
BEGIN:VEVENT
DTSTART;VALUE=DATE:20220122
DTEND;VALUE=DATE:20220123
DTSTAMP:20260425T092434
CREATED:20220102T205110Z
LAST-MODIFIED:20220120T033139Z
UID:3731-1642809600-1642895999@sakakaweafencestretchers.com
SUMMARY:ICE DRAGS Have Been Postponed
DESCRIPTION:660 Ice Racers Ice Drags\, HWY 23 Lake Vernon\, Between Ryder and Rice Lake
URL:https://sakakaweafencestretchers.com/event/3731/
ATTACH;FMTTYPE=image/jpeg:https://sakakaweafencestretchers.com/wp-content/uploads/2022/01/660-drags-1-22-22.jpg
END:VEVENT
BEGIN:VEVENT
DTSTART;TZID=America/Chicago:20220115T110000
DTEND;TZID=America/Chicago:20220115T180000
DTSTAMP:20260425T092434
CREATED:20220104T231153Z
LAST-MODIFIED:20220108T230915Z
UID:3738-1642244400-1642269600@sakakaweafencestretchers.com
SUMMARY:Purgatory Bar Sled Run\, Benedict
DESCRIPTION:Snowmobile fun run\, starting and stopping in Benedict
URL:https://sakakaweafencestretchers.com/event/purgatory-bar-sled-run-benedict/
ATTACH;FMTTYPE=image/jpeg:https://sakakaweafencestretchers.com/wp-content/uploads/2022/01/Benedict-fun-run-jan-15-2022B.jpg
END:VEVENT
BEGIN:VEVENT
DTSTART;VALUE=DATE:20220115
DTEND;VALUE=DATE:20220116
DTSTAMP:20260425T092434
CREATED:20211205T070419Z
LAST-MODIFIED:20220108T054914Z
UID:3440-1642204800-1642291199@sakakaweafencestretchers.com
SUMMARY:Gasmann Coulee Cruisers
DESCRIPTION:Gasmann Coulee Cruisers fun run and raffle.  Ends at Z Bar in Carpio
URL:https://sakakaweafencestretchers.com/event/fun-run-and-raffle/
ATTACH;FMTTYPE=image/jpeg:https://sakakaweafencestretchers.com/wp-content/uploads/2021/12/Gasmann-raffle-jan-2022.jpg
END:VEVENT
BEGIN:VEVENT
DTSTART;TZID=America/Chicago:20220109T080000
DTEND;TZID=America/Chicago:20220109T170000
DTSTAMP:20260425T092434
CREATED:20211205T064459Z
LAST-MODIFIED:20211205T064801Z
UID:3429-1641715200-1641747600@sakakaweafencestretchers.com
SUMMARY:Snow Drags
DESCRIPTION:Snow Drags in Scobey MT
URL:https://sakakaweafencestretchers.com/event/snow-drags/
END:VEVENT
BEGIN:VEVENT
DTSTART;VALUE=DATE:20220108
DTEND;VALUE=DATE:20220109
DTSTAMP:20260425T092434
CREATED:20211205T065946Z
LAST-MODIFIED:20211227T002850Z
UID:3436-1641600000-1641686399@sakakaweafencestretchers.com
SUMMARY:Magic City Driftbusters
DESCRIPTION:Fun Run and Raffle\,
URL:https://sakakaweafencestretchers.com/event/magic-city-driftbusters/
ATTACH;FMTTYPE=image/jpeg:https://sakakaweafencestretchers.com/wp-content/uploads/2021/12/driftbusters-010822.jpg
END:VEVENT
BEGIN:VEVENT
DTSTART;TZID=America/Chicago:20220104T190000
DTEND;TZID=America/Chicago:20220104T200000
DTSTAMP:20260425T092434
CREATED:20210831T013047Z
LAST-MODIFIED:20211210T045833Z
UID:3175-1641322800-1641326400@sakakaweafencestretchers.com
SUMMARY:Membership Meeting
DESCRIPTION:Monthly Membership Meeting\, 7 PM Garrison Golf Course
URL:https://sakakaweafencestretchers.com/event/membership-meeting-8/
END:VEVENT
BEGIN:VEVENT
DTSTART;VALUE=DATE:20211211
DTEND;VALUE=DATE:20211212
DTSTAMP:20260425T092434
CREATED:20211205T065631Z
LAST-MODIFIED:20211205T065631Z
UID:3434-1639180800-1639267199@sakakaweafencestretchers.com
SUMMARY:Dakota Trailblazers
DESCRIPTION:Dakota Trailblazers Fun Run and Raffle
URL:https://sakakaweafencestretchers.com/event/dakota-trailblazers/
END:VEVENT
BEGIN:VEVENT
DTSTART;TZID=America/Chicago:20211207T190000
DTEND;TZID=America/Chicago:20211207T200000
DTSTAMP:20260425T092434
CREATED:20201001T020804Z
LAST-MODIFIED:20211116T040258Z
UID:2230-1638903600-1638907200@sakakaweafencestretchers.com
SUMMARY:Membership Meeting
DESCRIPTION:Monthly Membership Meeting\, 7 PM\, Garrison Golf Course Clubhouse
URL:https://sakakaweafencestretchers.com/event/membership-meeting-7/
END:VEVENT
BEGIN:VEVENT
DTSTART;TZID=America/Chicago:20211102T190000
DTEND;TZID=America/Chicago:20211102T200000
DTSTAMP:20260425T092434
CREATED:20210831T013234Z
LAST-MODIFIED:20211102T010902Z
UID:3177-1635879600-1635883200@sakakaweafencestretchers.com
SUMMARY:Membership Meeting
DESCRIPTION:Monthly Membership Meeting\, 7 PM\, Garrison Golf Course
URL:https://sakakaweafencestretchers.com/event/membership-meeting-9/
END:VEVENT
BEGIN:VEVENT
DTSTART;VALUE=DATE:20211030
DTEND;VALUE=DATE:20211031
DTSTAMP:20260425T092434
CREATED:20210918T033342Z
LAST-MODIFIED:20210918T033551Z
UID:3214-1635552000-1635638399@sakakaweafencestretchers.com
SUMMARY:SND Convention Calendar Of Events
DESCRIPTION:
URL:https://sakakaweafencestretchers.com/event/snd-convention-calendar-of-events/
ATTACH;FMTTYPE=application/pdf:https://sakakaweafencestretchers.com/wp-content/uploads/2021/09/42nd-Annual-Snowmobile-ND-Statestown-2021-calendar-of-events-2.pdf
END:VEVENT
BEGIN:VEVENT
DTSTART;TZID=America/Chicago:20211029T080000
DTEND;TZID=America/Chicago:20211030T170000
DTSTAMP:20260425T092434
CREATED:20210914T035929Z
LAST-MODIFIED:20210918T032224Z
UID:3206-1635494400-1635613200@sakakaweafencestretchers.com
SUMMARY:Snowmobile North Dakota State Convention
DESCRIPTION:SND Convention\, Jamestown
URL:https://sakakaweafencestretchers.com/event/snowmobile-north-dakota-state-convention/
ATTACH;FMTTYPE=application/pdf:https://sakakaweafencestretchers.com/wp-content/uploads/2021/09/42nd-Annual-Snowmobile-ND-State-Convention-Jamestown-2021-1.pdf
END:VEVENT
BEGIN:VEVENT
DTSTART;TZID=America/Chicago:20211005T190000
DTEND;TZID=America/Chicago:20211005T193000
DTSTAMP:20260425T092434
CREATED:20210831T012648Z
LAST-MODIFIED:20210831T012648Z
UID:3172-1633460400-1633462200@sakakaweafencestretchers.com
SUMMARY:Gun Raffle Drawing
DESCRIPTION:Drawing for the raffle at 7 pm.
URL:https://sakakaweafencestretchers.com/event/gun-raffle-drawing/
END:VEVENT
BEGIN:VEVENT
DTSTART;TZID=America/Chicago:20211005T071500
DTEND;TZID=America/Chicago:20211005T200000
DTSTAMP:20260425T092434
CREATED:20210831T013628Z
LAST-MODIFIED:20210831T013628Z
UID:3179-1633418100-1633464000@sakakaweafencestretchers.com
SUMMARY:Membership Meeting
DESCRIPTION:Monthly Membership Meeting\, 7 PM TBA
URL:https://sakakaweafencestretchers.com/event/membership-meeting-10/
END:VEVENT
BEGIN:VEVENT
DTSTART;TZID=America/Chicago:20210911T110000
DTEND;TZID=America/Chicago:20210911T140000
DTSTAMP:20260425T092434
CREATED:20210831T003849Z
LAST-MODIFIED:20210831T003849Z
UID:3170-1631358000-1631368800@sakakaweafencestretchers.com
SUMMARY:Awe Shucks Corn Fest
DESCRIPTION:SFS will be serving Donuts and treats at the annual Awe Shucks Corn Fest in Garrison’s city park.
URL:https://sakakaweafencestretchers.com/event/awe-shucks-corn-fest/
END:VEVENT
BEGIN:VEVENT
DTSTART;TZID=America/Chicago:20210909T200000
DTEND;TZID=America/Chicago:20210909T210000
DTSTAMP:20260425T092434
CREATED:20210831T003526Z
LAST-MODIFIED:20210908T020608Z
UID:3167-1631217600-1631221200@sakakaweafencestretchers.com
SUMMARY:Annual Meeting of the Board of Directors
DESCRIPTION:Annual Meeting 8pm Garrison golf course clubhouse
URL:https://sakakaweafencestretchers.com/event/annual-meeting-of-the-board-of-directors/
END:VEVENT
BEGIN:VEVENT
DTSTART;TZID=America/Chicago:20210406T190000
DTEND;TZID=America/Chicago:20210406T200000
DTSTAMP:20260425T092434
CREATED:20201001T020423Z
LAST-MODIFIED:20210304T033142Z
UID:2226-1617735600-1617739200@sakakaweafencestretchers.com
SUMMARY:Membership Meeting & Election
DESCRIPTION:Monthly Membership and Election of Officers\, Directors & Coordinators\, Meeting 7pm @ Garrison Golf Course
URL:https://sakakaweafencestretchers.com/event/membership-meeting-election/
END:VEVENT
BEGIN:VEVENT
DTSTART;VALUE=DATE:20210307
DTEND;VALUE=DATE:20210308
DTSTAMP:20260425T092434
CREATED:20210131T041618Z
LAST-MODIFIED:20210131T041618Z
UID:2805-1615075200-1615161599@sakakaweafencestretchers.com
SUMMARY:Deering Vintage Snowmobile Show and Ride
DESCRIPTION:
URL:https://sakakaweafencestretchers.com/event/deering-vintage-snowmobile-show-and-ride/
ATTACH;FMTTYPE=image/png:https://sakakaweafencestretchers.com/wp-content/uploads/2020/10/deering-vintage-snowmobile-show-and-ride.png
END:VEVENT
BEGIN:VEVENT
DTSTART;VALUE=DATE:20210306
DTEND;VALUE=DATE:20210307
DTSTAMP:20260425T092434
CREATED:20210219T043217Z
LAST-MODIFIED:20210302T233919Z
UID:2911-1614988800-1615075199@sakakaweafencestretchers.com
SUMMARY:Ice Drags ---CANCELLED----
DESCRIPTION:Cancelled due to the warm weather\, will try again next winter.
URL:https://sakakaweafencestretchers.com/event/ice-drags-4/
ATTACH;FMTTYPE=application/pdf:https://sakakaweafencestretchers.com/wp-content/uploads/2021/02/ice-races-3-06-2021-pdf-1.pdf
END:VEVENT
BEGIN:VEVENT
DTSTART;TZID=America/Chicago:20210302T190000
DTEND;TZID=America/Chicago:20210302T200000
DTSTAMP:20260425T092434
CREATED:20201001T020051Z
LAST-MODIFIED:20210222T195052Z
UID:2224-1614711600-1614715200@sakakaweafencestretchers.com
SUMMARY:Membership Meeting
DESCRIPTION:Monthly Membership Meeting 7pm @ Garrison Golf Course
URL:https://sakakaweafencestretchers.com/event/membership-meeting-6/
END:VEVENT
BEGIN:VEVENT
DTSTART;VALUE=DATE:20210213
DTEND;VALUE=DATE:20210214
DTSTAMP:20260425T092434
CREATED:20210202T234817Z
LAST-MODIFIED:20210209T021421Z
UID:2845-1613174400-1613260799@sakakaweafencestretchers.com
SUMMARY:---POSTPONED---Ice Drags
DESCRIPTION:Ice Drags on Lake Vernon\, South of Rice Lake on Hwy 23. POSTPONED\, date TBD
URL:https://sakakaweafencestretchers.com/event/ice-drags-3/
ATTACH;FMTTYPE=image/png:https://sakakaweafencestretchers.com/wp-content/uploads/2021/02/ice-races-2-13-2021.png
END:VEVENT
BEGIN:VEVENT
DTSTART;VALUE=DATE:20210206
DTEND;VALUE=DATE:20210207
DTSTAMP:20260425T092434
CREATED:20210130T002607Z
LAST-MODIFIED:20210130T002607Z
UID:2787-1612569600-1612655999@sakakaweafencestretchers.com
SUMMARY:Amsoil Championship Fargo Snocross National Feb 5-6 2021
DESCRIPTION:Click the link for tickets and schedule.
URL:https://sakakaweafencestretchers.com/event/amsoil-championship-fargo-snocross-national-feb-5-6-2021/
ATTACH;FMTTYPE=image/png:https://sakakaweafencestretchers.com/wp-content/uploads/2020/10/Fargo-Snocross-2021.png
END:VEVENT
BEGIN:VEVENT
DTSTART;VALUE=DATE:20210206
DTEND;VALUE=DATE:20210207
DTSTAMP:20260425T092434
CREATED:20210116T165441Z
LAST-MODIFIED:20210130T004511Z
UID:2751-1612569600-1612655999@sakakaweafencestretchers.com
SUMMARY:Vintage snowmobile show\, ride and swap meet
DESCRIPTION:Clink link below for more info.
URL:https://sakakaweafencestretchers.com/event/vintage-snowmobile-show-ride-and-swap-meet/
ATTACH;FMTTYPE=image/png:https://sakakaweafencestretchers.com/wp-content/uploads/2021/01/Vintage-ride-and-show-2021.png
END:VEVENT
BEGIN:VEVENT
DTSTART;VALUE=DATE:20210206
DTEND;VALUE=DATE:20210207
DTSTAMP:20260425T092434
CREATED:20201001T022629Z
LAST-MODIFIED:20210130T004645Z
UID:2234-1612569600-1612655999@sakakaweafencestretchers.com
SUMMARY:State Ride
DESCRIPTION:State Snowmobile Ride\, East Central Valley trail Association. (Fargo Area) \nClick link below for more info.
URL:https://sakakaweafencestretchers.com/event/state-ride/
ATTACH;FMTTYPE=image/png:https://sakakaweafencestretchers.com/wp-content/uploads/2021/01/snowjam-2021.png
END:VEVENT
BEGIN:VEVENT
DTSTART;VALUE=DATE:20210205
DTEND;VALUE=DATE:20210206
DTSTAMP:20260425T092434
CREATED:20210130T000818Z
LAST-MODIFIED:20210130T002558Z
UID:2783-1612483200-1612569599@sakakaweafencestretchers.com
SUMMARY:Amsoil Championship Fargo Snocross National Feb 5-6 2021
DESCRIPTION:Click the link for tickets and schedule.
URL:https://sakakaweafencestretchers.com/event/fargo-snocross-feb-5-6-2021/
ATTACH;FMTTYPE=image/png:https://sakakaweafencestretchers.com/wp-content/uploads/2020/10/Fargo-Snocross-2021.png
END:VEVENT
BEGIN:VEVENT
DTSTART;TZID=America/Chicago:20210202T190000
DTEND;TZID=America/Chicago:20210202T200000
DTSTAMP:20260425T092434
CREATED:20201001T015807Z
LAST-MODIFIED:20210129T030432Z
UID:2222-1612292400-1612296000@sakakaweafencestretchers.com
SUMMARY:Membership Meeting
DESCRIPTION:Monthly Membership Meeting 7pm Brents Garage
URL:https://sakakaweafencestretchers.com/event/membership-meeting-5/
END:VEVENT
END:VCALENDAR