BEGIN:VCALENDAR
VERSION:2.0
PRODID:-//Sakakawea Fence Stretchers Inc. - ECPv6.15.20//NONSGML v1.0//EN
CALSCALE:GREGORIAN
METHOD:PUBLISH
X-WR-CALNAME:Sakakawea Fence Stretchers Inc.
X-ORIGINAL-URL:https://sakakaweafencestretchers.com
X-WR-CALDESC:Events for Sakakawea Fence Stretchers Inc.
REFRESH-INTERVAL;VALUE=DURATION:PT1H
X-Robots-Tag:noindex
X-PUBLISHED-TTL:PT1H
BEGIN:VTIMEZONE
TZID:America/Chicago
BEGIN:DAYLIGHT
TZOFFSETFROM:-0600
TZOFFSETTO:-0500
TZNAME:CDT
DTSTART:20220313T080000
END:DAYLIGHT
BEGIN:STANDARD
TZOFFSETFROM:-0500
TZOFFSETTO:-0600
TZNAME:CST
DTSTART:20221106T070000
END:STANDARD
BEGIN:DAYLIGHT
TZOFFSETFROM:-0600
TZOFFSETTO:-0500
TZNAME:CDT
DTSTART:20230312T080000
END:DAYLIGHT
BEGIN:STANDARD
TZOFFSETFROM:-0500
TZOFFSETTO:-0600
TZNAME:CST
DTSTART:20231105T070000
END:STANDARD
BEGIN:DAYLIGHT
TZOFFSETFROM:-0600
TZOFFSETTO:-0500
TZNAME:CDT
DTSTART:20240310T080000
END:DAYLIGHT
BEGIN:STANDARD
TZOFFSETFROM:-0500
TZOFFSETTO:-0600
TZNAME:CST
DTSTART:20241103T070000
END:STANDARD
BEGIN:DAYLIGHT
TZOFFSETFROM:-0600
TZOFFSETTO:-0500
TZNAME:CDT
DTSTART:20250309T080000
END:DAYLIGHT
BEGIN:STANDARD
TZOFFSETFROM:-0500
TZOFFSETTO:-0600
TZNAME:CST
DTSTART:20251102T070000
END:STANDARD
END:VTIMEZONE
BEGIN:VEVENT
DTSTART;VALUE=DATE:20241122
DTEND;VALUE=DATE:20241124
DTSTAMP:20260423T185203
CREATED:20240628T005105Z
LAST-MODIFIED:20241019T034104Z
UID:5429-1732233600-1732406399@sakakaweafencestretchers.com
SUMMARY:State Snowmobile Convention
DESCRIPTION:SND Convention\, Bottineau\, Cobblestone Inn.
URL:https://sakakaweafencestretchers.com/event/state-snowmobile-convention/
ATTACH;FMTTYPE=image/jpeg:https://sakakaweafencestretchers.com/wp-content/uploads/2024/10/2024-Convention.jpg
END:VEVENT
BEGIN:VEVENT
DTSTART;TZID=America/Chicago:20241105T190000
DTEND;TZID=America/Chicago:20241105T200000
DTSTAMP:20260423T185203
CREATED:20240628T004055Z
LAST-MODIFIED:20240628T004208Z
UID:5414-1730833200-1730836800@sakakaweafencestretchers.com
SUMMARY:Membership Meeting
DESCRIPTION:Location TBA
URL:https://sakakaweafencestretchers.com/event/membership-meeting-22/
END:VEVENT
BEGIN:VEVENT
DTSTART;VALUE=DATE:20241019
DTEND;VALUE=DATE:20241020
DTSTAMP:20260423T185203
CREATED:20241012T033613Z
LAST-MODIFIED:20241012T033726Z
UID:5524-1729296000-1729382399@sakakaweafencestretchers.com
SUMMARY:Grass Drags & Vintage Show
DESCRIPTION:Lansford Fire Dept Grass Drags
URL:https://sakakaweafencestretchers.com/event/grass-drags-2/
ATTACH;FMTTYPE=image/jpeg:https://sakakaweafencestretchers.com/wp-content/uploads/2024/10/Lansford-FD-2024-grass-drags.jpg
END:VEVENT
BEGIN:VEVENT
DTSTART;TZID=America/Chicago:20241001T190000
DTEND;TZID=America/Chicago:20241001T200000
DTSTAMP:20260423T185203
CREATED:20240628T003929Z
LAST-MODIFIED:20240929T005047Z
UID:5411-1727809200-1727812800@sakakaweafencestretchers.com
SUMMARY:Membership Meeting
DESCRIPTION:Monthly Membership Meeting\, 7pm\, Garrison Golf Course.
URL:https://sakakaweafencestretchers.com/event/membership-meeting-21/
END:VEVENT
BEGIN:VEVENT
DTSTART;TZID=America/Chicago:20240915T190000
DTEND;TZID=America/Chicago:20240915T200000
DTSTAMP:20260423T185203
CREATED:20240628T003823Z
LAST-MODIFIED:20240910T004406Z
UID:5409-1726426800-1726430400@sakakaweafencestretchers.com
SUMMARY:Annual Meeting
DESCRIPTION:Annual meeting of the board of directors\, 7pm\, Garrison Golf Course.
URL:https://sakakaweafencestretchers.com/event/annual-meeting-3/
END:VEVENT
BEGIN:VEVENT
DTSTART;TZID=America/Chicago:20240708T190000
DTEND;TZID=America/Chicago:20240708T191500
DTSTAMP:20260423T185203
CREATED:20240628T003627Z
LAST-MODIFIED:20240628T003627Z
UID:5407-1720465200-1720466100@sakakaweafencestretchers.com
SUMMARY:Raffle Drawing
DESCRIPTION:2024 Drawing
URL:https://sakakaweafencestretchers.com/event/raffle-drawing-2/
ATTACH;FMTTYPE=image/jpeg:https://sakakaweafencestretchers.com/wp-content/uploads/2024/05/2024-raffle-poster-1-scaled.jpg
END:VEVENT
BEGIN:VEVENT
DTSTART;TZID=America/Chicago:20240402T190000
DTEND;TZID=America/Chicago:20240402T200000
DTSTAMP:20260423T185203
CREATED:20230818T021622Z
LAST-MODIFIED:20240314T025251Z
UID:5052-1712084400-1712088000@sakakaweafencestretchers.com
SUMMARY:Monthly membership meeting and Election
DESCRIPTION:Monthly membership meeting and Election\, 7pm\, Garrison Golf Course.
URL:https://sakakaweafencestretchers.com/event/monthly-membership-meeting-and-election/
END:VEVENT
BEGIN:VEVENT
DTSTART;VALUE=DATE:20240310
DTEND;VALUE=DATE:20240311
DTSTAMP:20260423T185203
CREATED:20231211T015958Z
LAST-MODIFIED:20240305T024651Z
UID:5250-1710028800-1710115199@sakakaweafencestretchers.com
SUMMARY:Vintage show and ride\, Deering
DESCRIPTION:Rescheduled for March 10th
URL:https://sakakaweafencestretchers.com/event/vintage-show-and-ride-deering-3/
ATTACH;FMTTYPE=application/pdf:https://sakakaweafencestretchers.com/wp-content/uploads/2023/12/joel-Lochthowe-2024-rescheduled-1.pdf
END:VEVENT
BEGIN:VEVENT
DTSTART;TZID=America/Chicago:20240305T190000
DTEND;TZID=America/Chicago:20240305T200000
DTSTAMP:20260423T185203
CREATED:20230818T021505Z
LAST-MODIFIED:20240221T044025Z
UID:5050-1709665200-1709668800@sakakaweafencestretchers.com
SUMMARY:Monthly membership meeting
DESCRIPTION:Monthly membership meeting\, 7pm\, Garrison Golf Course
URL:https://sakakaweafencestretchers.com/event/monthly-membership-meeting-4/
END:VEVENT
BEGIN:VEVENT
DTSTART;VALUE=DATE:20240210
DTEND;VALUE=DATE:20240211
DTSTAMP:20260423T185203
CREATED:20231208T022237Z
LAST-MODIFIED:20231208T022237Z
UID:5238-1707523200-1707609599@sakakaweafencestretchers.com
SUMMARY:Blue Smoke Vintage Show and Ride\, Ryder ND
DESCRIPTION:Vintage Show and Ride\, Ryder ND
URL:https://sakakaweafencestretchers.com/event/blue-smoke-vintage-show-and-ride-ryder-nd/
ATTACH;FMTTYPE=application/pdf:https://sakakaweafencestretchers.com/wp-content/uploads/2023/12/2023-BSVS-Show-and-Ride-Flyer.pdf
END:VEVENT
BEGIN:VEVENT
DTSTART;TZID=America/Chicago:20240206T190000
DTEND;TZID=America/Chicago:20240206T200000
DTSTAMP:20260423T185203
CREATED:20230818T021418Z
LAST-MODIFIED:20240129T005023Z
UID:5048-1707246000-1707249600@sakakaweafencestretchers.com
SUMMARY:Monthly membership meeting
DESCRIPTION:Monthly membership meeting\, 7pm\, Garrison Golf Course
URL:https://sakakaweafencestretchers.com/event/monthly-membership-meeting-3/
END:VEVENT
BEGIN:VEVENT
DTSTART;TZID=America/Chicago:20240203T110000
DTEND;TZID=America/Chicago:20240203T170000
DTSTAMP:20260423T185203
CREATED:20231211T020309Z
LAST-MODIFIED:20231211T020309Z
UID:5255-1706958000-1706979600@sakakaweafencestretchers.com
SUMMARY:Fun Run\, Deering
DESCRIPTION:Magic City Driftbusters\, Fun Run
URL:https://sakakaweafencestretchers.com/event/fun-run-deering/
END:VEVENT
BEGIN:VEVENT
DTSTART;VALUE=DATE:20240127
DTEND;VALUE=DATE:20240128
DTSTAMP:20260423T185203
CREATED:20240123T040633Z
LAST-MODIFIED:20240123T040633Z
UID:5292-1706313600-1706399999@sakakaweafencestretchers.com
SUMMARY:Ice Races
DESCRIPTION:Ice Racing on Lake Vernon
URL:https://sakakaweafencestretchers.com/event/ice-races/
ATTACH;FMTTYPE=image/jpeg:https://sakakaweafencestretchers.com/wp-content/uploads/2024/01/660-racers-1272024.jpg
END:VEVENT
BEGIN:VEVENT
DTSTART;TZID=America/Chicago:20240113T110000
DTEND;TZID=America/Chicago:20240113T170000
DTSTAMP:20260423T185203
CREATED:20231211T020146Z
LAST-MODIFIED:20231211T020146Z
UID:5253-1705143600-1705165200@sakakaweafencestretchers.com
SUMMARY:Fun Run\, Burlington ND
DESCRIPTION:Gasmann Coulee Cruisers Fun Run
URL:https://sakakaweafencestretchers.com/event/fun-run-burlington-nd/
END:VEVENT
BEGIN:VEVENT
DTSTART;TZID=America/Chicago:20240102T190000
DTEND;TZID=America/Chicago:20240102T200000
DTSTAMP:20260423T185203
CREATED:20230818T021326Z
LAST-MODIFIED:20230818T021326Z
UID:5046-1704222000-1704225600@sakakaweafencestretchers.com
SUMMARY:Monthly membership meeting
DESCRIPTION:Monthly membership meeting
URL:https://sakakaweafencestretchers.com/event/monthly-membership-meeting-2/
END:VEVENT
BEGIN:VEVENT
DTSTART;TZID=America/Chicago:20231208T080000
DTEND;TZID=America/Chicago:20231209T170000
DTSTAMP:20260423T185203
CREATED:20231003T014121Z
LAST-MODIFIED:20231003T014251Z
UID:5087-1702022400-1702141200@sakakaweafencestretchers.com
SUMMARY:SND Convention
DESCRIPTION:
URL:https://sakakaweafencestretchers.com/event/snd-convention-2/
ATTACH;FMTTYPE=application/pdf:https://sakakaweafencestretchers.com/wp-content/uploads/2023/10/2023-convention-poster-2.pdf
END:VEVENT
BEGIN:VEVENT
DTSTART;TZID=America/Chicago:20231205T190000
DTEND;TZID=America/Chicago:20231205T200000
DTSTAMP:20260423T185203
CREATED:20230818T021241Z
LAST-MODIFIED:20230818T021241Z
UID:5044-1701802800-1701806400@sakakaweafencestretchers.com
SUMMARY:Monthly membership meeting
DESCRIPTION:Monthly membership meeting
URL:https://sakakaweafencestretchers.com/event/monthly-membership-meeting/
END:VEVENT
BEGIN:VEVENT
DTSTART;VALUE=DATE:20231202
DTEND;VALUE=DATE:20231203
DTSTAMP:20260423T185203
CREATED:20231106T003140Z
LAST-MODIFIED:20231106T003140Z
UID:5158-1701475200-1701561599@sakakaweafencestretchers.com
SUMMARY:Dakota Trailblazers fun run
DESCRIPTION:Fun Run
URL:https://sakakaweafencestretchers.com/event/dakota-trailblazers-fun-run-2/
ATTACH;FMTTYPE=image/jpeg:https://sakakaweafencestretchers.com/wp-content/uploads/2023/10/DakTBL-fun-run-Dec-2023.jpg
END:VEVENT
BEGIN:VEVENT
DTSTART;TZID=America/Chicago:20231107T190000
DTEND;TZID=America/Chicago:20231107T200000
DTSTAMP:20260423T185203
CREATED:20230818T021153Z
LAST-MODIFIED:20231101T021055Z
UID:5042-1699383600-1699387200@sakakaweafencestretchers.com
SUMMARY:Membership Meeting
DESCRIPTION:Monthly membership meeting\, Garrison Golf Course\, 7pm
URL:https://sakakaweafencestretchers.com/event/membership-meeting-20/
END:VEVENT
BEGIN:VEVENT
DTSTART;TZID=America/Chicago:20231003T190000
DTEND;TZID=America/Chicago:20231003T200000
DTSTAMP:20260423T185203
CREATED:20230818T021047Z
LAST-MODIFIED:20230904T012501Z
UID:5040-1696359600-1696363200@sakakaweafencestretchers.com
SUMMARY:Membership Meeting
DESCRIPTION:Monthly membership meeting\, 7pm\, Garrison Golf Course.
URL:https://sakakaweafencestretchers.com/event/membership-meeting-19/
END:VEVENT
BEGIN:VEVENT
DTSTART;TZID=America/Chicago:20230914T190000
DTEND;TZID=America/Chicago:20230914T200000
DTSTAMP:20260423T185203
CREATED:20230818T020927Z
LAST-MODIFIED:20230904T012423Z
UID:5038-1694718000-1694721600@sakakaweafencestretchers.com
SUMMARY:Annual Directors Meeting
DESCRIPTION:Annual Meeting of the board of directors\, Garrison golf course. 7pm
URL:https://sakakaweafencestretchers.com/event/annual-directors-meeting/
END:VEVENT
BEGIN:VEVENT
DTSTART;TZID=America/Chicago:20230411T190000
DTEND;TZID=America/Chicago:20230411T200000
DTSTAMP:20260423T185203
CREATED:20230409T032531Z
LAST-MODIFIED:20230409T032531Z
UID:4920-1681239600-1681243200@sakakaweafencestretchers.com
SUMMARY:Membership Meeting and Election
DESCRIPTION:Monthly membership meeting and election of officers and directors. 7pm Garrison golf course.
URL:https://sakakaweafencestretchers.com/event/membership-meeting-and-election-2/
END:VEVENT
BEGIN:VEVENT
DTSTART;TZID=America/Chicago:20230404T190000
DTEND;TZID=America/Chicago:20230404T210000
DTSTAMP:20260423T185203
CREATED:20220630T234411Z
LAST-MODIFIED:20230409T032309Z
UID:4334-1680634800-1680642000@sakakaweafencestretchers.com
SUMMARY:Membership Meeting and Election --POSTPONED--
DESCRIPTION:Monthly Membership Meeting\, 7pm\, Tentatively at the Garrison Golf Course
URL:https://sakakaweafencestretchers.com/event/membership-meeting-and-election/
END:VEVENT
BEGIN:VEVENT
DTSTART;TZID=America/Chicago:20230318T110000
DTEND;TZID=America/Chicago:20230318T180000
DTSTAMP:20260423T185203
CREATED:20230315T025316Z
LAST-MODIFIED:20230315T025316Z
UID:4833-1679137200-1679162400@sakakaweafencestretchers.com
SUMMARY:SFS Fun Run
DESCRIPTION:SFS Fun Run March 18th
URL:https://sakakaweafencestretchers.com/event/sfs-fun-run-2/
ATTACH;FMTTYPE=image/webp:https://sakakaweafencestretchers.com/wp-content/uploads/2023/03/3182023SFS-fun-run.webp
END:VEVENT
BEGIN:VEVENT
DTSTART;TZID=America/Chicago:20230307T190000
DTEND;TZID=America/Chicago:20230307T210000
DTSTAMP:20260423T185203
CREATED:20220630T234310Z
LAST-MODIFIED:20220630T234310Z
UID:4332-1678215600-1678222800@sakakaweafencestretchers.com
SUMMARY:Membership Meeting
DESCRIPTION:Monthly Membership Meeting\, 7pm\, Tentatively at the Garrison Golf Course
URL:https://sakakaweafencestretchers.com/event/membership-meeting-18/
END:VEVENT
BEGIN:VEVENT
DTSTART;VALUE=DATE:20230305
DTEND;VALUE=DATE:20230306
DTSTAMP:20260423T185203
CREATED:20230107T052148Z
LAST-MODIFIED:20230107T052148Z
UID:4739-1677974400-1678060799@sakakaweafencestretchers.com
SUMMARY:Vintage show and ride\, Deering
DESCRIPTION:Joel Lochthowe Memorial Vintage show and ride
URL:https://sakakaweafencestretchers.com/event/vintage-show-and-ride-deering-2/
ATTACH;FMTTYPE=image/jpeg:https://sakakaweafencestretchers.com/wp-content/uploads/2023/01/JoelLochthowememorial2023.jpg
END:VEVENT
BEGIN:VEVENT
DTSTART;VALUE=DATE:20230304
DTEND;VALUE=DATE:20230305
DTSTAMP:20260423T185203
CREATED:20221114T051706Z
LAST-MODIFIED:20221114T051706Z
UID:4602-1677888000-1677974399@sakakaweafencestretchers.com
SUMMARY:Vintage show and Ride\, Bottineau
DESCRIPTION:Bottineau County Vintage snowmobile show and ride\, Noon\, Meet at Dockside.
URL:https://sakakaweafencestretchers.com/event/vintage-show-and-ride-bottineau/
END:VEVENT
BEGIN:VEVENT
DTSTART;TZID=America/Chicago:20230221T190000
DTEND;TZID=America/Chicago:20230221T210000
DTSTAMP:20260423T185203
CREATED:20230216T001538Z
LAST-MODIFIED:20230216T001725Z
UID:4800-1677006000-1677013200@sakakaweafencestretchers.com
SUMMARY:Special Meeting
DESCRIPTION:Special meeting regarding groomer repairs and fundraising. 7pm\, Garrison Golf Course
URL:https://sakakaweafencestretchers.com/event/special-meeting-2/
END:VEVENT
BEGIN:VEVENT
DTSTART;VALUE=DATE:20230218
DTEND;VALUE=DATE:20230219
DTSTAMP:20260423T185203
CREATED:20220630T231851Z
LAST-MODIFIED:20230122T193323Z
UID:4316-1676678400-1676764799@sakakaweafencestretchers.com
SUMMARY:State Ride
DESCRIPTION:State ride\, Bottineau ND\, Peace garden trail
URL:https://sakakaweafencestretchers.com/event/state-ride-4/
ATTACH;FMTTYPE=image/jpeg:https://sakakaweafencestretchers.com/wp-content/uploads/2023/01/2023-State-ride-poster.jpg
END:VEVENT
BEGIN:VEVENT
DTSTART;TZID=America/Chicago:20230217T170000
DTEND;TZID=America/Chicago:20230217T190000
DTSTAMP:20260423T185203
CREATED:20230122T193552Z
LAST-MODIFIED:20230122T193552Z
UID:4763-1676653200-1676660400@sakakaweafencestretchers.com
SUMMARY:State ride Registration
DESCRIPTION:
URL:https://sakakaweafencestretchers.com/event/state-ride-registration/
ATTACH;FMTTYPE=image/jpeg:https://sakakaweafencestretchers.com/wp-content/uploads/2023/01/2023-State-ride-info.jpg
END:VEVENT
END:VCALENDAR