BEGIN:VCALENDAR
VERSION:2.0
PRODID:-//Sakakawea Fence Stretchers Inc. - ECPv6.15.20//NONSGML v1.0//EN
CALSCALE:GREGORIAN
METHOD:PUBLISH
X-WR-CALNAME:Sakakawea Fence Stretchers Inc.
X-ORIGINAL-URL:https://sakakaweafencestretchers.com
X-WR-CALDESC:Events for Sakakawea Fence Stretchers Inc.
REFRESH-INTERVAL;VALUE=DURATION:PT1H
X-Robots-Tag:noindex
X-PUBLISHED-TTL:PT1H
BEGIN:VTIMEZONE
TZID:America/Chicago
BEGIN:DAYLIGHT
TZOFFSETFROM:-0600
TZOFFSETTO:-0500
TZNAME:CDT
DTSTART:20210314T080000
END:DAYLIGHT
BEGIN:STANDARD
TZOFFSETFROM:-0500
TZOFFSETTO:-0600
TZNAME:CST
DTSTART:20211107T070000
END:STANDARD
BEGIN:DAYLIGHT
TZOFFSETFROM:-0600
TZOFFSETTO:-0500
TZNAME:CDT
DTSTART:20220313T080000
END:DAYLIGHT
BEGIN:STANDARD
TZOFFSETFROM:-0500
TZOFFSETTO:-0600
TZNAME:CST
DTSTART:20221106T070000
END:STANDARD
BEGIN:DAYLIGHT
TZOFFSETFROM:-0600
TZOFFSETTO:-0500
TZNAME:CDT
DTSTART:20230312T080000
END:DAYLIGHT
BEGIN:STANDARD
TZOFFSETFROM:-0500
TZOFFSETTO:-0600
TZNAME:CST
DTSTART:20231105T070000
END:STANDARD
BEGIN:DAYLIGHT
TZOFFSETFROM:-0600
TZOFFSETTO:-0500
TZNAME:CDT
DTSTART:20240310T080000
END:DAYLIGHT
BEGIN:STANDARD
TZOFFSETFROM:-0500
TZOFFSETTO:-0600
TZNAME:CST
DTSTART:20241103T070000
END:STANDARD
END:VTIMEZONE
BEGIN:VEVENT
DTSTART;VALUE=DATE:20230304
DTEND;VALUE=DATE:20230305
DTSTAMP:20260425T090111
CREATED:20221114T051706Z
LAST-MODIFIED:20221114T051706Z
UID:4602-1677888000-1677974399@sakakaweafencestretchers.com
SUMMARY:Vintage show and Ride\, Bottineau
DESCRIPTION:Bottineau County Vintage snowmobile show and ride\, Noon\, Meet at Dockside.
URL:https://sakakaweafencestretchers.com/event/vintage-show-and-ride-bottineau/
END:VEVENT
BEGIN:VEVENT
DTSTART;TZID=America/Chicago:20230221T190000
DTEND;TZID=America/Chicago:20230221T210000
DTSTAMP:20260425T090111
CREATED:20230216T001538Z
LAST-MODIFIED:20230216T001725Z
UID:4800-1677006000-1677013200@sakakaweafencestretchers.com
SUMMARY:Special Meeting
DESCRIPTION:Special meeting regarding groomer repairs and fundraising. 7pm\, Garrison Golf Course
URL:https://sakakaweafencestretchers.com/event/special-meeting-2/
END:VEVENT
BEGIN:VEVENT
DTSTART;VALUE=DATE:20230218
DTEND;VALUE=DATE:20230219
DTSTAMP:20260425T090111
CREATED:20220630T231851Z
LAST-MODIFIED:20230122T193323Z
UID:4316-1676678400-1676764799@sakakaweafencestretchers.com
SUMMARY:State Ride
DESCRIPTION:State ride\, Bottineau ND\, Peace garden trail
URL:https://sakakaweafencestretchers.com/event/state-ride-4/
ATTACH;FMTTYPE=image/jpeg:https://sakakaweafencestretchers.com/wp-content/uploads/2023/01/2023-State-ride-poster.jpg
END:VEVENT
BEGIN:VEVENT
DTSTART;TZID=America/Chicago:20230217T170000
DTEND;TZID=America/Chicago:20230217T190000
DTSTAMP:20260425T090111
CREATED:20230122T193552Z
LAST-MODIFIED:20230122T193552Z
UID:4763-1676653200-1676660400@sakakaweafencestretchers.com
SUMMARY:State ride Registration
DESCRIPTION:
URL:https://sakakaweafencestretchers.com/event/state-ride-registration/
ATTACH;FMTTYPE=image/jpeg:https://sakakaweafencestretchers.com/wp-content/uploads/2023/01/2023-State-ride-info.jpg
END:VEVENT
BEGIN:VEVENT
DTSTART;VALUE=DATE:20230211
DTEND;VALUE=DATE:20230212
DTSTAMP:20260425T090111
CREATED:20221114T051512Z
LAST-MODIFIED:20230205T230228Z
UID:4599-1676073600-1676159999@sakakaweafencestretchers.com
SUMMARY:SnoJam Casselton
DESCRIPTION:SnowJam in Casselton
URL:https://sakakaweafencestretchers.com/event/snojam-casselton/
ATTACH;FMTTYPE=image/jpeg:https://sakakaweafencestretchers.com/wp-content/uploads/2023/02/snow-jam-2023.jpg
END:VEVENT
BEGIN:VEVENT
DTSTART;VALUE=DATE:20230211
DTEND;VALUE=DATE:20230212
DTSTAMP:20260425T090111
CREATED:20221114T050443Z
LAST-MODIFIED:20221215T015622Z
UID:4588-1676073600-1676159999@sakakaweafencestretchers.com
SUMMARY:Vintage Snowmobile Show and Ride
DESCRIPTION:Sakakawea Fence Stretchers Vintage Snowmobile Show and Ride\, Totten Trail.
URL:https://sakakaweafencestretchers.com/event/vintage-snowmobile-show-and-ride-2/
ATTACH;FMTTYPE=image/jpeg:https://sakakaweafencestretchers.com/wp-content/uploads/2022/11/2nd-Annual-Vintage-Sled-Show-and-Ride-JPEG-scaled.jpg
ORGANIZER;CN="Sakakawea Fence Stretchers":MAILTO:sakfencestretch@outlook.com
END:VEVENT
BEGIN:VEVENT
DTSTART;TZID=America/Chicago:20230207T190000
DTEND;TZID=America/Chicago:20230207T210000
DTSTAMP:20260425T090111
CREATED:20220630T234224Z
LAST-MODIFIED:20230216T001204Z
UID:4330-1675796400-1675803600@sakakaweafencestretchers.com
SUMMARY:Membership Meeting
DESCRIPTION:Monthly Membership Meeting\, 7pm\, at the Garrison Golf Course
URL:https://sakakaweafencestretchers.com/event/membership-meeting-17/
END:VEVENT
BEGIN:VEVENT
DTSTART;VALUE=DATE:20230204
DTEND;VALUE=DATE:20230205
DTSTAMP:20260425T090111
CREATED:20221114T051415Z
LAST-MODIFIED:20221114T051415Z
UID:4596-1675468800-1675555199@sakakaweafencestretchers.com
SUMMARY:Magic City Driftbusters Raffle and Run
DESCRIPTION:Ends at Pinks in Ruthville at 5pm
URL:https://sakakaweafencestretchers.com/event/magic-city-driftbusters-raffle-and-run/
END:VEVENT
BEGIN:VEVENT
DTSTART;VALUE=DATE:20230121
DTEND;VALUE=DATE:20230122
DTSTAMP:20260425T090111
CREATED:20221114T051232Z
LAST-MODIFIED:20221114T051232Z
UID:4594-1674259200-1674345599@sakakaweafencestretchers.com
SUMMARY:Gasman Coulee Cruisers Raffle and Run
DESCRIPTION:Ends at Sidelines Bar\, Berthold.
URL:https://sakakaweafencestretchers.com/event/gasman-coulee-cruisers-raffle-and-run/
END:VEVENT
BEGIN:VEVENT
DTSTART;VALUE=DATE:20230114
DTEND;VALUE=DATE:20230115
DTSTAMP:20260425T090111
CREATED:20230103T172432Z
LAST-MODIFIED:20230103T172432Z
UID:4726-1673654400-1673740799@sakakaweafencestretchers.com
SUMMARY:Fun Run Bismarck
DESCRIPTION:Fun Run Bismarck
URL:https://sakakaweafencestretchers.com/event/fun-run-bismarck/
ATTACH;FMTTYPE=image/jpeg:https://sakakaweafencestretchers.com/wp-content/uploads/2023/01/bismarck-fun-run-2023.jpg
END:VEVENT
BEGIN:VEVENT
DTSTART;VALUE=DATE:20230107
DTEND;VALUE=DATE:20230108
DTSTAMP:20260425T090111
CREATED:20230103T044027Z
LAST-MODIFIED:20230103T044027Z
UID:4718-1673049600-1673135999@sakakaweafencestretchers.com
SUMMARY:Fun Run
DESCRIPTION:Register at Hometown Tavern 10.30 AM
URL:https://sakakaweafencestretchers.com/event/fun-run-2/
ATTACH;FMTTYPE=image/png:https://sakakaweafencestretchers.com/wp-content/uploads/2023/01/sfsfr172023.png
END:VEVENT
BEGIN:VEVENT
DTSTART;TZID=America/Chicago:20230103T190000
DTEND;TZID=America/Chicago:20230103T210000
DTSTAMP:20260425T090111
CREATED:20220630T234137Z
LAST-MODIFIED:20221221T032843Z
UID:4328-1672772400-1672779600@sakakaweafencestretchers.com
SUMMARY:Membership Meeting
DESCRIPTION:Monthly Membership Meeting\, 7pm\, at the Garrison Golf Course
URL:https://sakakaweafencestretchers.com/event/membership-meeting-16/
END:VEVENT
BEGIN:VEVENT
DTSTART;VALUE=DATE:20221210
DTEND;VALUE=DATE:20221211
DTSTAMP:20260425T090111
CREATED:20221205T031423Z
LAST-MODIFIED:20221205T031505Z
UID:4648-1670630400-1670716799@sakakaweafencestretchers.com
SUMMARY:Dakota Trailblazers fun run
DESCRIPTION:
URL:https://sakakaweafencestretchers.com/event/dakota-trailblazers-fun-run/
ATTACH;FMTTYPE=image/jpeg:https://sakakaweafencestretchers.com/wp-content/uploads/2022/12/Dakota-trailblazers-12-2022.jpg
END:VEVENT
BEGIN:VEVENT
DTSTART;VALUE=DATE:20221210
DTEND;VALUE=DATE:20221212
DTSTAMP:20260425T090111
CREATED:20221114T051016Z
LAST-MODIFIED:20221205T032347Z
UID:4591-1670630400-1670803199@sakakaweafencestretchers.com
SUMMARY:Dennis Kirk SnoCross Fargo
DESCRIPTION:Red river valley fairgrounds\,Fargo ND
URL:https://sakakaweafencestretchers.com/event/dennis-kirk-snocross-fargo/
END:VEVENT
BEGIN:VEVENT
DTSTART;TZID=America/Chicago:20221206T190000
DTEND;TZID=America/Chicago:20221206T210000
DTSTAMP:20260425T090111
CREATED:20220630T234050Z
LAST-MODIFIED:20221122T024702Z
UID:4326-1670353200-1670360400@sakakaweafencestretchers.com
SUMMARY:Membership Meeting
DESCRIPTION:Monthly Membership Meeting\, 7pm\, Garrison Golf Course
URL:https://sakakaweafencestretchers.com/event/membership-meeting-15/
END:VEVENT
BEGIN:VEVENT
DTSTART;VALUE=DATE:20221126
DTEND;VALUE=DATE:20221127
DTSTAMP:20260425T090111
CREATED:20220630T231737Z
LAST-MODIFIED:20221009T025348Z
UID:4314-1669420800-1669507199@sakakaweafencestretchers.com
SUMMARY:SND Convention
DESCRIPTION:Snowmobile State Convention\, Devils Lake\, One Day only
URL:https://sakakaweafencestretchers.com/event/snd-convention/
ATTACH;FMTTYPE=application/pdf:https://sakakaweafencestretchers.com/wp-content/uploads/2022/06/Ridge-Runners-State-Convention-Brochure-2022.pdf
END:VEVENT
BEGIN:VEVENT
DTSTART;TZID=America/Chicago:20221113T080000
DTEND;TZID=America/Chicago:20221113T170000
DTSTAMP:20260425T090111
CREATED:20221114T051833Z
LAST-MODIFIED:20221114T051833Z
UID:4604-1668326400-1668358800@sakakaweafencestretchers.com
SUMMARY:Vintage show and ride\, Deering
DESCRIPTION:Driftbusters vintage show and ride\, Setup at 10am at Big Reds\, Deering
URL:https://sakakaweafencestretchers.com/event/vintage-show-and-ride-deering/
END:VEVENT
BEGIN:VEVENT
DTSTART;TZID=America/Chicago:20221101T190000
DTEND;TZID=America/Chicago:20221101T210000
DTSTAMP:20260425T090111
CREATED:20220630T233957Z
LAST-MODIFIED:20221029T042704Z
UID:4324-1667329200-1667336400@sakakaweafencestretchers.com
SUMMARY:Membership Meeting
DESCRIPTION:Monthly Membership Meeting\, 7pm\, Purgatory Bar and Grill in Benedict
URL:https://sakakaweafencestretchers.com/event/membership-meeting-14/
END:VEVENT
BEGIN:VEVENT
DTSTART;TZID=America/Chicago:20221004T190000
DTEND;TZID=America/Chicago:20221004T210000
DTSTAMP:20260425T090111
CREATED:20220630T233840Z
LAST-MODIFIED:20220915T014759Z
UID:4322-1664910000-1664917200@sakakaweafencestretchers.com
SUMMARY:Membership Meeting
DESCRIPTION:First Membership Meeting of the Season\, 7pm\, at the Garrison Golf Course
URL:https://sakakaweafencestretchers.com/event/membership-meeting-13/
END:VEVENT
BEGIN:VEVENT
DTSTART;TZID=America/Chicago:20220913T190000
DTEND;TZID=America/Chicago:20220913T210000
DTSTAMP:20260425T090111
CREATED:20220630T233724Z
LAST-MODIFIED:20220901T155424Z
UID:4320-1663095600-1663102800@sakakaweafencestretchers.com
SUMMARY:Annual Meeting
DESCRIPTION:Annual meeting of the Board of Directors\, 7pm\, at the Garrison Golf Course
URL:https://sakakaweafencestretchers.com/event/annual-meeting-2/
END:VEVENT
BEGIN:VEVENT
DTSTART;TZID=America/Chicago:20220802T080000
DTEND;TZID=America/Chicago:20220802T190000
DTSTAMP:20260425T090111
CREATED:20220630T232126Z
LAST-MODIFIED:20220630T232126Z
UID:4318-1659427200-1659466800@sakakaweafencestretchers.com
SUMMARY:Raffle Drawing
DESCRIPTION:Gun Raffle Drawing 7pm Garrison Golf Course
URL:https://sakakaweafencestretchers.com/event/raffle-drawing/
END:VEVENT
BEGIN:VEVENT
DTSTART;TZID=America/Chicago:20220405T190000
DTEND;TZID=America/Chicago:20220405T200000
DTSTAMP:20260425T090111
CREATED:20210831T014017Z
LAST-MODIFIED:20210831T014017Z
UID:3185-1649185200-1649188800@sakakaweafencestretchers.com
SUMMARY:Membership Meeting/Election
DESCRIPTION:Monthly Membership Meeting\, 7 PM TBA
URL:https://sakakaweafencestretchers.com/event/membership-meeting-election-2/
END:VEVENT
BEGIN:VEVENT
DTSTART;VALUE=DATE:20220319
DTEND;VALUE=DATE:20220320
DTSTAMP:20260425T090111
CREATED:20220311T223523Z
LAST-MODIFIED:20220311T223523Z
UID:3992-1647648000-1647734399@sakakaweafencestretchers.com
SUMMARY:Youth Snowmobile show
DESCRIPTION:
URL:https://sakakaweafencestretchers.com/event/youth-snowmobile-show/
ATTACH;FMTTYPE=image/jpeg:https://sakakaweafencestretchers.com/wp-content/uploads/2022/03/youth-snowmobile-show-2022.jpg
END:VEVENT
BEGIN:VEVENT
DTSTART;VALUE=DATE:20220312
DTEND;VALUE=DATE:20220314
DTSTAMP:20260425T090111
CREATED:20220308T014713Z
LAST-MODIFIED:20220308T014713Z
UID:3950-1647043200-1647215999@sakakaweafencestretchers.com
SUMMARY:ICE DRAGS March 12-13
DESCRIPTION:ICE DRAGS
URL:https://sakakaweafencestretchers.com/event/ice-drags-march-12-13/
ATTACH;FMTTYPE=image/jpeg:https://sakakaweafencestretchers.com/wp-content/uploads/2022/03/660-drags-3-12-22.jpg
END:VEVENT
BEGIN:VEVENT
DTSTART;VALUE=DATE:20220306
DTEND;VALUE=DATE:20220307
DTSTAMP:20260425T090111
CREATED:20220128T042443Z
LAST-MODIFIED:20220128T042443Z
UID:3860-1646524800-1646611199@sakakaweafencestretchers.com
SUMMARY:Vintage snowmobile show and ride
DESCRIPTION:Deering ND
URL:https://sakakaweafencestretchers.com/event/vintage-snowmobile-show-and-ride/
ATTACH;FMTTYPE=image/png:https://sakakaweafencestretchers.com/wp-content/uploads/2022/01/272669772_976294196598042_6933642757763359905_n.png
END:VEVENT
BEGIN:VEVENT
DTSTART;VALUE=DATE:20220305
DTEND;VALUE=DATE:20220306
DTSTAMP:20260425T090111
CREATED:20211205T071028Z
LAST-MODIFIED:20220227T044230Z
UID:3446-1646438400-1646524799@sakakaweafencestretchers.com
SUMMARY:Vintage show and raffle\, Metigoshe
DESCRIPTION:Botno Cty family snowmobile and vintage show and raffle at Dockside\, Lake Metigoshe
URL:https://sakakaweafencestretchers.com/event/vintage-show-and-raffle-metigoshee/
ATTACH;FMTTYPE=image/jpeg:https://sakakaweafencestretchers.com/wp-content/uploads/2022/02/Botno-county-family-snowmobilers-2021-vintageshow.jpg
END:VEVENT
BEGIN:VEVENT
DTSTART;TZID=America/Chicago:20220301T190000
DTEND;TZID=America/Chicago:20220301T200000
DTSTAMP:20260425T090111
CREATED:20210831T013859Z
LAST-MODIFIED:20220120T033809Z
UID:3183-1646161200-1646164800@sakakaweafencestretchers.com
SUMMARY:Membership Meeting
DESCRIPTION:Monthly Membership Meeting\, 7 PM Garrison Golf Course
URL:https://sakakaweafencestretchers.com/event/membership-meeting-12/
END:VEVENT
BEGIN:VEVENT
DTSTART;TZID=America/Chicago:20220226T100000
DTEND;TZID=America/Chicago:20220226T180000
DTSTAMP:20260425T090111
CREATED:20211210T045611Z
LAST-MODIFIED:20220222T034316Z
UID:3467-1645869600-1645898400@sakakaweafencestretchers.com
SUMMARY:Sakakawea Fence Stretchers Fun Run !!!!!!!!!!!!!!!!!!Postponed!!!!!!!!!!!!!!!!!!!!!
DESCRIPTION:SFS Fun Run\, East half our trail system\, snow permitting\, tentatively including Garrison\, Douglas\, Max\, Benedict\, Totten Trail\, Garrison.  POSTPONED until we get adequate snow for riding
URL:https://sakakaweafencestretchers.com/event/sfs-fun-run/
END:VEVENT
BEGIN:VEVENT
DTSTART;TZID=America/Chicago:20220219T100000
DTEND;TZID=America/Chicago:20220219T173000
DTSTAMP:20260425T090111
CREATED:20211102T032711Z
LAST-MODIFIED:20220108T050323Z
UID:3269-1645264800-1645291800@sakakaweafencestretchers.com
SUMMARY:Snow Fest & SND State Ride in Langdon
DESCRIPTION:SND State Ride 2022 in Langdon
URL:https://sakakaweafencestretchers.com/event/state-ride-2/
ATTACH;FMTTYPE=image/jpeg:https://sakakaweafencestretchers.com/wp-content/uploads/2022/01/2022-state-ride.jpg
END:VEVENT
BEGIN:VEVENT
DTSTART;TZID=America/Chicago:20220212T110000
DTEND;TZID=America/Chicago:20220212T170000
DTSTAMP:20260425T090111
CREATED:20220121T234410Z
LAST-MODIFIED:20220128T042241Z
UID:3824-1644663600-1644685200@sakakaweafencestretchers.com
SUMMARY:Vintage Sled Show and Ride
DESCRIPTION:Max ND
URL:https://sakakaweafencestretchers.com/event/vintage-sled-show-and-ride/
ATTACH;FMTTYPE=image/jpeg:https://sakakaweafencestretchers.com/wp-content/uploads/2022/01/Red-Light-vintage-show-and-ride.jpg
END:VEVENT
END:VCALENDAR