BEGIN:VCALENDAR
VERSION:2.0
PRODID:-//Sakakawea Fence Stretchers Inc. - ECPv6.15.20//NONSGML v1.0//EN
CALSCALE:GREGORIAN
METHOD:PUBLISH
X-WR-CALNAME:Sakakawea Fence Stretchers Inc.
X-ORIGINAL-URL:https://sakakaweafencestretchers.com
X-WR-CALDESC:Events for Sakakawea Fence Stretchers Inc.
REFRESH-INTERVAL;VALUE=DURATION:PT1H
X-Robots-Tag:noindex
X-PUBLISHED-TTL:PT1H
BEGIN:VTIMEZONE
TZID:America/Chicago
BEGIN:DAYLIGHT
TZOFFSETFROM:-0600
TZOFFSETTO:-0500
TZNAME:CDT
DTSTART:20190310T080000
END:DAYLIGHT
BEGIN:STANDARD
TZOFFSETFROM:-0500
TZOFFSETTO:-0600
TZNAME:CST
DTSTART:20191103T070000
END:STANDARD
BEGIN:DAYLIGHT
TZOFFSETFROM:-0600
TZOFFSETTO:-0500
TZNAME:CDT
DTSTART:20200308T080000
END:DAYLIGHT
BEGIN:STANDARD
TZOFFSETFROM:-0500
TZOFFSETTO:-0600
TZNAME:CST
DTSTART:20201101T070000
END:STANDARD
BEGIN:DAYLIGHT
TZOFFSETFROM:-0600
TZOFFSETTO:-0500
TZNAME:CDT
DTSTART:20210314T080000
END:DAYLIGHT
BEGIN:STANDARD
TZOFFSETFROM:-0500
TZOFFSETTO:-0600
TZNAME:CST
DTSTART:20211107T070000
END:STANDARD
END:VTIMEZONE
BEGIN:VTIMEZONE
TZID:UTC
BEGIN:STANDARD
TZOFFSETFROM:+0000
TZOFFSETTO:+0000
TZNAME:UTC
DTSTART:20190101T000000
END:STANDARD
END:VTIMEZONE
BEGIN:VEVENT
DTSTART;VALUE=DATE:20200201
DTEND;VALUE=DATE:20200202
DTSTAMP:20260425T075501
CREATED:20200127T065707Z
LAST-MODIFIED:20200127T065917Z
UID:1642-1580515200-1580601599@sakakaweafencestretchers.com
SUMMARY:State Ride and Snofest in Walhalla
DESCRIPTION:
URL:https://sakakaweafencestretchers.com/event/state-ride-and-snofest-in-walhalla/
ATTACH;FMTTYPE=image/jpeg:https://sakakaweafencestretchers.com/wp-content/uploads/2020/01/State-ride.jpg
END:VEVENT
BEGIN:VEVENT
DTSTART;VALUE=DATE:20200125
DTEND;VALUE=DATE:20200126
DTSTAMP:20260425T075501
CREATED:20200111T105830Z
LAST-MODIFIED:20200111T110739Z
UID:1392-1579910400-1579996799@sakakaweafencestretchers.com
SUMMARY:Ice Drags Dakota 660 Ice Racers
DESCRIPTION:Dakota 660 Ice Racers\, Drag races under the lights \nRegistration 12:00-2:00 \nTesting 2:00-4:00  $10/Sled \nRaces Start at 6:00 \n4 lane porta tree timing system \n100% payouts \n$5 for each buy in for fastest 60 Ft and fastest reaction time \n50% Payout for each winner \nMust have ice picks and tether switch \nLocated 8-1/2 miles west of the Highway 83 and 23 Junction
URL:https://sakakaweafencestretchers.com/event/ice-drags/
ATTACH;FMTTYPE=image/jpeg:https://sakakaweafencestretchers.com/wp-content/uploads/2020/01/Dakota-660-ice-racers.jpg
END:VEVENT
BEGIN:VEVENT
DTSTART;VALUE=DATE:20200125
DTEND;VALUE=DATE:20200126
DTSTAMP:20260425T075501
CREATED:20200111T044932Z
LAST-MODIFIED:20200118T054402Z
UID:1352-1579910400-1579996799@sakakaweafencestretchers.com
SUMMARY:Sakakawea Fence Stretchers Fun Run
DESCRIPTION:Sakakawea Fence Stretchers Club Run\, Registration 10-10:45 at DQ\, leave at 11\, to K-Bar Makoti\, Backroads Bar Plaza\, Ryder Star Ryder\, Douglas Bar\, Back to Garrison to Hunters and end at Hometown Tavern. $20 entry\, 100% payout\, Shake dice\, run will go on ride or drive.
URL:https://sakakaweafencestretchers.com/event/sakakawea-fence-stretchers-fun-run/
ATTACH;FMTTYPE=image/png:https://sakakaweafencestretchers.com/wp-content/uploads/2020/01/Jan-Fun-Run.png
END:VEVENT
BEGIN:VEVENT
DTSTART;VALUE=DATE:20200118
DTEND;VALUE=DATE:20200119
DTSTAMP:20260425T075501
CREATED:20200111T032135Z
LAST-MODIFIED:20200111T043303Z
UID:1320-1579305600-1579305600@sakakaweafencestretchers.com
SUMMARY:Fun Run - Gasman Coulee Cruisers
DESCRIPTION:Gasmann Coulee Cruisers Fun Run\, Ends in Burlington\, Marlo Stromberg 833-8560
URL:https://sakakaweafencestretchers.com/event/fun-run/
END:VEVENT
END:VCALENDAR