BEGIN:VCALENDAR
VERSION:2.0
PRODID:-//Sakakawea Fence Stretchers Inc. - ECPv6.15.20//NONSGML v1.0//EN
CALSCALE:GREGORIAN
METHOD:PUBLISH
X-WR-CALNAME:Sakakawea Fence Stretchers Inc.
X-ORIGINAL-URL:https://sakakaweafencestretchers.com
X-WR-CALDESC:Events for Sakakawea Fence Stretchers Inc.
REFRESH-INTERVAL;VALUE=DURATION:PT1H
X-Robots-Tag:noindex
X-PUBLISHED-TTL:PT1H
BEGIN:VTIMEZONE
TZID:America/Chicago
BEGIN:DAYLIGHT
TZOFFSETFROM:-0600
TZOFFSETTO:-0500
TZNAME:CDT
DTSTART:20240310T080000
END:DAYLIGHT
BEGIN:STANDARD
TZOFFSETFROM:-0500
TZOFFSETTO:-0600
TZNAME:CST
DTSTART:20241103T070000
END:STANDARD
BEGIN:DAYLIGHT
TZOFFSETFROM:-0600
TZOFFSETTO:-0500
TZNAME:CDT
DTSTART:20250309T080000
END:DAYLIGHT
BEGIN:STANDARD
TZOFFSETFROM:-0500
TZOFFSETTO:-0600
TZNAME:CST
DTSTART:20251102T070000
END:STANDARD
BEGIN:DAYLIGHT
TZOFFSETFROM:-0600
TZOFFSETTO:-0500
TZNAME:CDT
DTSTART:20260308T080000
END:DAYLIGHT
BEGIN:STANDARD
TZOFFSETFROM:-0500
TZOFFSETTO:-0600
TZNAME:CST
DTSTART:20261101T070000
END:STANDARD
BEGIN:DAYLIGHT
TZOFFSETFROM:-0600
TZOFFSETTO:-0500
TZNAME:CDT
DTSTART:20270314T080000
END:DAYLIGHT
BEGIN:STANDARD
TZOFFSETFROM:-0500
TZOFFSETTO:-0600
TZNAME:CST
DTSTART:20271107T070000
END:STANDARD
END:VTIMEZONE
BEGIN:VEVENT
DTSTART;TZID=America/Chicago:20260214T080000
DTEND;TZID=America/Chicago:20260214T170000
DTSTAMP:20260423T152550
CREATED:20250920T024648Z
LAST-MODIFIED:20260202T034013Z
UID:6012-1771056000-1771088400@sakakaweafencestretchers.com
SUMMARY:Blue Smoke vintage show & ride
DESCRIPTION:Blue Smoke vintage show & ride
URL:https://sakakaweafencestretchers.com/event/blue-smoke-vintage-show-ride/
ATTACH;FMTTYPE=image/jpeg:https://sakakaweafencestretchers.com/wp-content/uploads/2025/11/2026-Blue-Smoke-Show-B.jpg
END:VEVENT
BEGIN:VEVENT
DTSTART;VALUE=DATE:20260207
DTEND;VALUE=DATE:20260208
DTSTAMP:20260423T152550
CREATED:20251212T224252Z
LAST-MODIFIED:20251212T224252Z
UID:6195-1770422400-1770508799@sakakaweafencestretchers.com
SUMMARY:Fun Run\, Langdon\, 2/7/26
DESCRIPTION:Fun Run\, Langdon\, 2/7/26
URL:https://sakakaweafencestretchers.com/event/fun-run-langdon-2-7-26/
ATTACH;FMTTYPE=image/jpeg:https://sakakaweafencestretchers.com/wp-content/uploads/2025/12/2026-Feb-7-Langdon-Fun-Run.jpg
END:VEVENT
BEGIN:VEVENT
DTSTART;VALUE=DATE:20260207
DTEND;VALUE=DATE:20260208
DTSTAMP:20260423T152550
CREATED:20251202T035445Z
LAST-MODIFIED:20251202T035445Z
UID:6176-1770422400-1770508799@sakakaweafencestretchers.com
SUMMARY:Fun Run\, Magic City Driftbusters\, Feb 7th
DESCRIPTION:
URL:https://sakakaweafencestretchers.com/event/fun-run-magic-city-driftbusters-feb-7th/
END:VEVENT
BEGIN:VEVENT
DTSTART;TZID=America/Chicago:20260203T080000
DTEND;TZID=America/Chicago:20260203T170000
DTSTAMP:20260423T152550
CREATED:20250920T023822Z
LAST-MODIFIED:20250920T023822Z
UID:5998-1770105600-1770138000@sakakaweafencestretchers.com
SUMMARY:Monthly Membership meeting\, 7pm Location TBA
DESCRIPTION:Monthly Membership meeting\, 7pm Location TBA
URL:https://sakakaweafencestretchers.com/event/monthly-membership-meeting-7pm-location-tba-5/
END:VEVENT
BEGIN:VEVENT
DTSTART;VALUE=DATE:20260124
DTEND;VALUE=DATE:20260125
DTSTAMP:20260423T152550
CREATED:20251130T041518Z
LAST-MODIFIED:20251130T041518Z
UID:6137-1769212800-1769299199@sakakaweafencestretchers.com
SUMMARY:Vintage Show and Ride
DESCRIPTION:Manville\, ND
URL:https://sakakaweafencestretchers.com/event/vintage-show-and-ride-3/
ATTACH;FMTTYPE=application/pdf:https://sakakaweafencestretchers.com/wp-content/uploads/2025/11/2026-Manvel-Show-and-Ride-1.pdf
END:VEVENT
BEGIN:VEVENT
DTSTART;VALUE=DATE:20260117
DTEND;VALUE=DATE:20260118
DTSTAMP:20260423T152550
CREATED:20251202T035340Z
LAST-MODIFIED:20251202T035340Z
UID:6174-1768608000-1768694399@sakakaweafencestretchers.com
SUMMARY:Raffle/Fun Run\, Gasman Coulee Cruisers\, Jan 17
DESCRIPTION:
URL:https://sakakaweafencestretchers.com/event/raffle-fun-run-gasman-coulee-cruisers-jan-17/
END:VEVENT
BEGIN:VEVENT
DTSTART;TZID=America/Chicago:20260106T080000
DTEND;TZID=America/Chicago:20260106T170000
DTSTAMP:20260423T152550
CREATED:20250920T023704Z
LAST-MODIFIED:20250920T023704Z
UID:5994-1767686400-1767718800@sakakaweafencestretchers.com
SUMMARY:Monthly Membership meeting\, 7pm Location TBA
DESCRIPTION:Monthly Membership meeting\, 7pm Location TBA
URL:https://sakakaweafencestretchers.com/event/monthly-membership-meeting-7pm-location-tba-3/
END:VEVENT
BEGIN:VEVENT
DTSTART;VALUE=DATE:20251220
DTEND;VALUE=DATE:20251221
DTSTAMP:20260423T152550
CREATED:20251212T224437Z
LAST-MODIFIED:20251212T224437Z
UID:6197-1766188800-1766275199@sakakaweafencestretchers.com
SUMMARY:Youth Ride and snowmobile giveway\, Devils Lake 12/20/26
DESCRIPTION:Youth Ride and snowmobile giveway\, Devils Lake 12/20/26
URL:https://sakakaweafencestretchers.com/event/youth-ride-and-snowmobile-giveway-devils-lake-12-20-26/
ATTACH;FMTTYPE=image/jpeg:https://sakakaweafencestretchers.com/wp-content/uploads/2025/12/2025-Valley-Snowdrifters-give-away-Dec-20.jpg
END:VEVENT
BEGIN:VEVENT
DTSTART;VALUE=DATE:20251213
DTEND;VALUE=DATE:20251214
DTSTAMP:20260423T152550
CREATED:20251130T041138Z
LAST-MODIFIED:20251130T041138Z
UID:6131-1765584000-1765670399@sakakaweafencestretchers.com
SUMMARY:Snowmobile Fun Run
DESCRIPTION:Granville\, Surrey\, Deering
URL:https://sakakaweafencestretchers.com/event/snowmobile-fun-run/
ATTACH;FMTTYPE=application/pdf:https://sakakaweafencestretchers.com/wp-content/uploads/2025/11/2025-Dakota-Trailblazers-1.pdf
END:VEVENT
BEGIN:VEVENT
DTSTART;VALUE=DATE:20251212
DTEND;VALUE=DATE:20251214
DTSTAMP:20260423T152550
CREATED:20250920T024524Z
LAST-MODIFIED:20250920T030052Z
UID:6010-1765497600-1765670399@sakakaweafencestretchers.com
SUMMARY:Dickens Village Festival
DESCRIPTION:Dickens Village Festival
URL:https://sakakaweafencestretchers.com/event/dickens-village-festival/
END:VEVENT
BEGIN:VEVENT
DTSTART;VALUE=DATE:20251206
DTEND;VALUE=DATE:20251207
DTSTAMP:20260423T152550
CREATED:20251130T044542Z
LAST-MODIFIED:20251130T044542Z
UID:6162-1764979200-1765065599@sakakaweafencestretchers.com
SUMMARY:Vintage Show\, Glen Ullin
DESCRIPTION:
URL:https://sakakaweafencestretchers.com/event/vintage-show-glen-ullin/
ATTACH;FMTTYPE=image/jpeg:https://sakakaweafencestretchers.com/wp-content/uploads/2025/11/2025-Glen-Ullin-Vintage-Show.jpg
END:VEVENT
BEGIN:VEVENT
DTSTART;VALUE=DATE:20251205
DTEND;VALUE=DATE:20251207
DTSTAMP:20260423T152550
CREATED:20250920T024434Z
LAST-MODIFIED:20250920T024434Z
UID:6008-1764892800-1765065599@sakakaweafencestretchers.com
SUMMARY:Dickens VillageFestival
DESCRIPTION:Dickens VillageFestival
URL:https://sakakaweafencestretchers.com/event/dickens-villagefestival-2/
END:VEVENT
BEGIN:VEVENT
DTSTART;TZID=America/Chicago:20251202T080000
DTEND;TZID=America/Chicago:20251202T170000
DTSTAMP:20260423T152550
CREATED:20250920T023626Z
LAST-MODIFIED:20250920T023626Z
UID:5992-1764662400-1764694800@sakakaweafencestretchers.com
SUMMARY:Monthly Membership meeting\, 7pm Location TBA
DESCRIPTION:Monthly Membership meeting\, 7pm Location TBA
URL:https://sakakaweafencestretchers.com/event/monthly-membership-meeting-7pm-location-tba-2/
END:VEVENT
BEGIN:VEVENT
DTSTART;VALUE=DATE:20251128
DTEND;VALUE=DATE:20251130
DTSTAMP:20260423T152550
CREATED:20250920T024345Z
LAST-MODIFIED:20250920T024345Z
UID:6006-1764288000-1764460799@sakakaweafencestretchers.com
SUMMARY:Dickens VillageFestival
DESCRIPTION:Dickens VillageFestival
URL:https://sakakaweafencestretchers.com/event/dickens-villagefestival/
END:VEVENT
BEGIN:VEVENT
DTSTART;VALUE=DATE:20251122
DTEND;VALUE=DATE:20251123
DTSTAMP:20260423T152550
CREATED:20250920T024213Z
LAST-MODIFIED:20251017T021951Z
UID:6004-1763769600-1763855999@sakakaweafencestretchers.com
SUMMARY:State Convention
DESCRIPTION:State Convention\, Grand Forks\, at the Ramada by Windam
URL:https://sakakaweafencestretchers.com/event/state-convention/
ATTACH;FMTTYPE=image/jpeg:https://sakakaweafencestretchers.com/wp-content/uploads/2025/10/2025-Convention-Flyer.jpg
END:VEVENT
BEGIN:VEVENT
DTSTART;TZID=America/Chicago:20251104T080000
DTEND;TZID=America/Chicago:20251104T170000
DTSTAMP:20260423T152550
CREATED:20250920T023544Z
LAST-MODIFIED:20250920T023544Z
UID:5990-1762243200-1762275600@sakakaweafencestretchers.com
SUMMARY:Monthly Membership meeting\, 7pm Location TBA
DESCRIPTION:Monthly Membership meeting\, 7pm Location TBA
URL:https://sakakaweafencestretchers.com/event/monthly-membership-meeting-7pm-location-tba/
END:VEVENT
BEGIN:VEVENT
DTSTART;VALUE=DATE:20251011
DTEND;VALUE=DATE:20251012
DTSTAMP:20260423T152550
CREATED:20250920T023154Z
LAST-MODIFIED:20250920T023154Z
UID:5984-1760140800-1760227199@sakakaweafencestretchers.com
SUMMARY:Lansford FD Grass Drags
DESCRIPTION:Lansford FD Grass Drags
URL:https://sakakaweafencestretchers.com/event/lansford-fd-grass-drags/
ATTACH;FMTTYPE=image/jpeg:https://sakakaweafencestretchers.com/wp-content/uploads/2025/09/Lansford-FD-2025-Grass-Drags.jpg
END:VEVENT
BEGIN:VEVENT
DTSTART;TZID=America/Chicago:20251007T080000
DTEND;TZID=America/Chicago:20251007T170000
DTSTAMP:20260423T152550
CREATED:20250920T023505Z
LAST-MODIFIED:20250920T023505Z
UID:5988-1759824000-1759856400@sakakaweafencestretchers.com
SUMMARY:Membership Meeting
DESCRIPTION:Monthly Membership meeting\, 7pm\, Garrison Golf Course
URL:https://sakakaweafencestretchers.com/event/membership-meeting-28/
END:VEVENT
BEGIN:VEVENT
DTSTART;TZID=America/Chicago:20250923T190000
DTEND;TZID=America/Chicago:20250923T190000
DTSTAMP:20260423T152550
CREATED:20250920T023317Z
LAST-MODIFIED:20250920T023317Z
UID:5986-1758654000-1758654000@sakakaweafencestretchers.com
SUMMARY:Annual Meeting
DESCRIPTION:Annual Meeting of the board of directors\, Garrison Golf Course
URL:https://sakakaweafencestretchers.com/event/annual-meeting-4/
END:VEVENT
BEGIN:VEVENT
DTSTART;TZID=America/Chicago:20250707T190000
DTEND;TZID=America/Chicago:20250707T193000
DTSTAMP:20260423T152550
CREATED:20250404T023624Z
LAST-MODIFIED:20250404T023624Z
UID:5877-1751914800-1751916600@sakakaweafencestretchers.com
SUMMARY:Raffle Drawing
DESCRIPTION:Raffle Drawing at golf course 7pm
URL:https://sakakaweafencestretchers.com/event/raffle-drawing-3/
ATTACH;FMTTYPE=application/pdf:https://sakakaweafencestretchers.com/wp-content/uploads/2025/04/2025-raffle-2.pdf
END:VEVENT
BEGIN:VEVENT
DTSTART;TZID=America/Chicago:20250401T190000
DTEND;TZID=America/Chicago:20250401T200000
DTSTAMP:20260423T152550
CREATED:20240628T004556Z
LAST-MODIFIED:20250315T034420Z
UID:5425-1743534000-1743537600@sakakaweafencestretchers.com
SUMMARY:Membership Meeting
DESCRIPTION:Pour Choices in Max
URL:https://sakakaweafencestretchers.com/event/membership-meeting-27/
END:VEVENT
BEGIN:VEVENT
DTSTART;VALUE=DATE:20250308
DTEND;VALUE=DATE:20250309
DTSTAMP:20260423T152550
CREATED:20250131T034659Z
LAST-MODIFIED:20250201T044503Z
UID:5707-1741392000-1741478399@sakakaweafencestretchers.com
SUMMARY:Vintage Show
DESCRIPTION:Bottineau Vintage Show
URL:https://sakakaweafencestretchers.com/event/vintage-show-2/
ATTACH;FMTTYPE=image/jpeg:https://sakakaweafencestretchers.com/wp-content/uploads/2025/01/2025-bottineau-vintage-show.jpg
END:VEVENT
BEGIN:VEVENT
DTSTART;TZID=America/Chicago:20250304T190000
DTEND;TZID=America/Chicago:20250304T200000
DTSTAMP:20260423T152550
CREATED:20240628T004505Z
LAST-MODIFIED:20240628T004505Z
UID:5423-1741114800-1741118400@sakakaweafencestretchers.com
SUMMARY:Membership Meeting
DESCRIPTION:Location TBA
URL:https://sakakaweafencestretchers.com/event/membership-meeting-26/
END:VEVENT
BEGIN:VEVENT
DTSTART;VALUE=DATE:20250302
DTEND;VALUE=DATE:20250303
DTSTAMP:20260423T152550
CREATED:20241101T232022Z
LAST-MODIFIED:20250203T003804Z
UID:5551-1740873600-1740959999@sakakaweafencestretchers.com
SUMMARY:Vintage Show\, Deering\, 3/2/25
DESCRIPTION:Deering memorial Lochthowe/Kotasek Vintage show
URL:https://sakakaweafencestretchers.com/event/vintage-show/
ATTACH;FMTTYPE=image/jpeg:https://sakakaweafencestretchers.com/wp-content/uploads/2024/11/2025-Deering-Vintage-show.jpg
END:VEVENT
BEGIN:VEVENT
DTSTART;VALUE=DATE:20250222
DTEND;VALUE=DATE:20250223
DTSTAMP:20260423T152550
CREATED:20250201T045925Z
LAST-MODIFIED:20250201T045925Z
UID:5719-1740182400-1740268799@sakakaweafencestretchers.com
SUMMARY:Vintage Show
DESCRIPTION:Vintage Show
URL:https://sakakaweafencestretchers.com/event/vintage-show-3/
ATTACH;FMTTYPE=image/jpeg:https://sakakaweafencestretchers.com/wp-content/uploads/2025/01/Rugby-Vintage-Show-2025.jpg
END:VEVENT
BEGIN:VEVENT
DTSTART;VALUE=DATE:20250222
DTEND;VALUE=DATE:20250223
DTSTAMP:20260423T152550
CREATED:20241022T024343Z
LAST-MODIFIED:20250213T030202Z
UID:5534-1740182400-1740268799@sakakaweafencestretchers.com
SUMMARY:C A N C E L L E D ! ! ! ! ! !     Lack of snow                State Ride\, Rugby
DESCRIPTION:CANCELLED       February 22\, State ride in rugby.
URL:https://sakakaweafencestretchers.com/event/state-ride-rugby/
END:VEVENT
BEGIN:VEVENT
DTSTART;VALUE=DATE:20250216
DTEND;VALUE=DATE:20250217
DTSTAMP:20260423T152550
CREATED:20250201T051051Z
LAST-MODIFIED:20250201T051051Z
UID:5731-1739664000-1739750399@sakakaweafencestretchers.com
SUMMARY:Vintage Show and ride
DESCRIPTION:Vintage Show and Ride\, Michigan
URL:https://sakakaweafencestretchers.com/event/vintage-show-and-ride/
ATTACH;FMTTYPE=image/jpeg:https://sakakaweafencestretchers.com/wp-content/uploads/2025/01/Michigan-Vintage-Show-and-Run-2025.jpg
END:VEVENT
BEGIN:VEVENT
DTSTART;VALUE=DATE:20250215
DTEND;VALUE=DATE:20250216
DTSTAMP:20260423T152550
CREATED:20250202T020040Z
LAST-MODIFIED:20250202T020040Z
UID:5738-1739577600-1739663999@sakakaweafencestretchers.com
SUMMARY:Benefit Run
DESCRIPTION:Benefit Fun Run
URL:https://sakakaweafencestretchers.com/event/benefit-run/
ATTACH;FMTTYPE=application/pdf:https://sakakaweafencestretchers.com/wp-content/uploads/2025/02/Brekken-run-1.pdf
END:VEVENT
BEGIN:VEVENT
DTSTART;VALUE=DATE:20250209
DTEND;VALUE=DATE:20250210
DTSTAMP:20260423T152550
CREATED:20250201T051203Z
LAST-MODIFIED:20250201T051203Z
UID:5733-1739059200-1739145599@sakakaweafencestretchers.com
SUMMARY:Youth Ride
DESCRIPTION:Youth Snowmobile Ride\, Lakota
URL:https://sakakaweafencestretchers.com/event/youth-ride/
ATTACH;FMTTYPE=image/jpeg:https://sakakaweafencestretchers.com/wp-content/uploads/2025/01/Lakota-Youth-Snowmobile-Run-2025.jpg
END:VEVENT
BEGIN:VEVENT
DTSTART;VALUE=DATE:20250208
DTEND;VALUE=DATE:20250209
DTSTAMP:20260423T152550
CREATED:20240628T004914Z
LAST-MODIFIED:20250201T044854Z
UID:5427-1738972800-1739059199@sakakaweafencestretchers.com
SUMMARY:Vintage Snowmobile Show
DESCRIPTION:4th Annual Blue Smoke Vintage Snowmobile Show. Totten Trail
URL:https://sakakaweafencestretchers.com/event/vintage-snowmobile-show-2/
ATTACH;FMTTYPE=image/jpeg:https://sakakaweafencestretchers.com/wp-content/uploads/2025/01/BSVS-2025B-1-scaled.jpg
END:VEVENT
END:VCALENDAR