BEGIN:VCALENDAR
VERSION:2.0
PRODID:-//Sakakawea Fence Stretchers Inc. - ECPv6.15.20//NONSGML v1.0//EN
CALSCALE:GREGORIAN
METHOD:PUBLISH
X-ORIGINAL-URL:https://sakakaweafencestretchers.com
X-WR-CALDESC:Events for Sakakawea Fence Stretchers Inc.
REFRESH-INTERVAL;VALUE=DURATION:PT1H
X-Robots-Tag:noindex
X-PUBLISHED-TTL:PT1H
BEGIN:VTIMEZONE
TZID:America/Chicago
BEGIN:DAYLIGHT
TZOFFSETFROM:-0600
TZOFFSETTO:-0500
TZNAME:CDT
DTSTART:20230312T080000
END:DAYLIGHT
BEGIN:STANDARD
TZOFFSETFROM:-0500
TZOFFSETTO:-0600
TZNAME:CST
DTSTART:20231105T070000
END:STANDARD
BEGIN:DAYLIGHT
TZOFFSETFROM:-0600
TZOFFSETTO:-0500
TZNAME:CDT
DTSTART:20240310T080000
END:DAYLIGHT
BEGIN:STANDARD
TZOFFSETFROM:-0500
TZOFFSETTO:-0600
TZNAME:CST
DTSTART:20241103T070000
END:STANDARD
BEGIN:DAYLIGHT
TZOFFSETFROM:-0600
TZOFFSETTO:-0500
TZNAME:CDT
DTSTART:20250309T080000
END:DAYLIGHT
BEGIN:STANDARD
TZOFFSETFROM:-0500
TZOFFSETTO:-0600
TZNAME:CST
DTSTART:20251102T070000
END:STANDARD
END:VTIMEZONE
BEGIN:VEVENT
DTSTART;TZID=America/Chicago:20240708T190000
DTEND;TZID=America/Chicago:20240708T191500
DTSTAMP:20260424T144049
CREATED:20240628T003627Z
LAST-MODIFIED:20240628T003627Z
UID:5407-1720465200-1720466100@sakakaweafencestretchers.com
SUMMARY:Raffle Drawing
DESCRIPTION:2024 Drawing
URL:https://sakakaweafencestretchers.com/event/raffle-drawing-2/
ATTACH;FMTTYPE=image/jpeg:https://sakakaweafencestretchers.com/wp-content/uploads/2024/05/2024-raffle-poster-1-scaled.jpg
END:VEVENT
END:VCALENDAR